BEGIN:VCALENDAR
VERSION:2.0
PRODID:-//ChamberMaster//Event Calendar 2.0//EN
METHOD:PUBLISH
X-PUBLISHED-TTL:P3D
REFRESH-INTERVAL:P3D
CALSCALE:GREGORIAN
BEGIN:VEVENT
DTSTART:20131214T183000Z
DTEND:20131216T023000Z
X-MICROSOFT-CDO-ALLDAYEVENT:FALSE
SUMMARY:Sesame Street Live "Elmo Makes Music"
DESCRIPTION:Sesame Street Live "Elmo Makes Music" is coming to Abbotsford!\n\n	When the new music teacher's instruments go missing\, Elmo\, Abby Cadabby\, Big Bird\, and more come to the rescue and discover instruments they never knew existed. Children learn that everyone can make and enjoy beautiful music together! "Elmo Makes Music" features nearly two dozen songs\, including classics that children will love to sing along with\, such as "C Is For Cookie" and "The Alphabet Song".\n\n	\n\n	Groups of 10+ can save $3 per ticket - please message groupsales@abbotsfordcentre.ca for more information.
X-ALT-DESC;FMTTYPE=text/html:<p style="margin: 0cm 0cm 7.5pt\; line-height: 15pt\; background-position: initial initial\; background-repeat: initial initial\;">\n	<span style="font-size:11.0pt\;font-family:\n&quot\;Calibri&quot\;\,&quot\;sans-serif&quot\;">Sesame Street Live &quot\;Elmo Makes Music&quot\; is coming to Abbotsford!<o:p></o:p></span></p>\n<p style="margin: 0cm 0cm 7.5pt\; line-height: 15pt\; background-position: initial initial\; background-repeat: initial initial\;">\n	<span style="font-size:11.0pt\;\nfont-family:&quot\;Calibri&quot\;\,&quot\;sans-serif&quot\;">When the new music teacher&rsquo\;s instruments go missing\, Elmo\, Abby Cadabby\, Big Bird\, and more come to the rescue and discover instruments they never knew existed. Children learn that everyone can make and enjoy beautiful music together! &ldquo\;Elmo Makes Music&rdquo\; features nearly two dozen songs\, including classics that children will love to sing along with\, such as &ldquo\;C Is For Cookie&rdquo\; and &ldquo\;The Alphabet Song&rdquo\;.<br />\n	<br />\n	Groups of 10+ can save $3 per ticket - please message groupsales@abbotsfordcentre.ca for more information.</span></p>\n
LOCATION:Abbotsford Entertainment & Sports Centre
UID:e.749.2394
SEQUENCE:3
DTSTAMP:20260426T033923Z
URL:https://business.swrbot.com/events/details/sesame-street-live-elmo-makes-music-12-14-2013-2394
END:VEVENT

END:VCALENDAR
