BEGIN:VCALENDAR
VERSION:2.0
PRODID:-//ChamberMaster//Event Calendar 2.0//EN
METHOD:PUBLISH
X-PUBLISHED-TTL:P3D
REFRESH-INTERVAL:P3D
CALSCALE:GREGORIAN
BEGIN:VEVENT
DTSTART:20200308T023000Z
DTEND:20200308T075500Z
X-MICROSOFT-CDO-ALLDAYEVENT:FALSE
SUMMARY:Shakti Awards Dinner Gala
DESCRIPTION:This event is not hosted by the Surrey Board of Trade. Please contact the event hosts noted below for details.\n\n \n\n\nThe Shakti Awards were founded in 2000 to recognize and honour women who have displayed Shakti - Strength and Energy\, in their community\, locally and/or globally. The awards recognize women who have exemplified strength in six categories\, Academic\, Artistic\, Entrepreneurial\, Sports\, Public Service and Resilience. The society is run by Sonia Andhi\, and is focused on empowering women\, children and families by providing a holistic approach to community service.
X-ALT-DESC;FMTTYPE=text/html:<em>This event is not hosted by the Surrey Board of Trade. Please contact the event hosts noted below for details.</em><br />\n&nbsp\;\n<hr /><br />\nThe Shakti Awards were founded in 2000 to recognize and honour women who have displayed Shakti - Strength and Energy\, in their community\, locally and/or globally. The awards recognize women who have exemplified strength in six categories\, Academic\, Artistic\, Entrepreneurial\, Sports\, Public Service and Resilience. The society is run by Sonia Andhi\, and is focused on empowering women\, children and families by providing a holistic approach to community service.
LOCATION:Bollywood Banquet Hall Surrey\, BC
UID:e.749.10871
SEQUENCE:3
DTSTAMP:20260420T065958Z
URL:https://business.swrbot.com/events/details/shakti-awards-dinner-gala-03-07-2020-10871
END:VEVENT

END:VCALENDAR
