BEGIN:VCALENDAR
VERSION:2.0
PRODID:-//ChamberMaster//Event Calendar 2.0//EN
METHOD:PUBLISH
X-PUBLISHED-TTL:P3D
REFRESH-INTERVAL:P3D
CALSCALE:GREGORIAN
BEGIN:VEVENT
DTSTART:20140313T000000Z
DTEND:20140313T000000Z
X-MICROSOFT-CDO-ALLDAYEVENT:FALSE
SUMMARY:SHAVE SANTA for the FOOD BANK
DESCRIPTION:SHAVE SANTA CLAUS for the Surrey Food Bank's - Tiny Bundles Program. Every $20.00 you donate to the Surrey Food Bank's Tiny Bundles Program gives you another opportunity to Shave Santa Claus.
X-ALT-DESC;FMTTYPE=text/html:SHAVE SANTA CLAUS for the Surrey Food Bank&#39\;s - Tiny Bundles Program. Every $20.00 you donate to the Surrey Food Bank&#39\;s Tiny Bundles Program gives you another opportunity to Shave Santa Claus.
LOCATION:Mark Anthony Academy of Cosmetology 5735 ? 203 Street\, Langley\, BC.
UID:e.749.2602
SEQUENCE:3
DTSTAMP:20260425T235431Z
URL:https://business.swrbot.com/events/details/shave-santa-for-the-food-bank-03-12-2014-2602
END:VEVENT

END:VCALENDAR
