BEGIN:VCALENDAR
VERSION:2.0
PRODID:-//ChamberMaster//Event Calendar 2.0//EN
METHOD:PUBLISH
X-PUBLISHED-TTL:P3D
REFRESH-INTERVAL:P3D
CALSCALE:GREGORIAN
BEGIN:VEVENT
DTSTART:20180505T170000Z
DTEND:20180506T000000Z
X-MICROSOFT-CDO-ALLDAYEVENT:FALSE
SUMMARY:Skateboard\, Scooter\, and Bike Riders!
DESCRIPTION:Grab your skateboard\, scooter or bike and head to the Surrey Rides Event Series. From May 5 to September 8\, at Youth Parks throughout Surrey\, riders 21 years of age and under collect points in each competition. Those with the most points will compete in the Finals. Stop by to enjoy a live DJ\, BBQ and the impressive skills and energy these young riders bring. More details at www.surrey.ca/surreyrides
X-ALT-DESC;FMTTYPE=text/html:Grab your skateboard\, scooter or bike and head to the Surrey Rides Event Series. From May 5 to September 8\, at Youth Parks throughout Surrey\, riders 21 years of age and under collect points in each competition. Those with the most points will compete in the Finals. Stop by to enjoy a live DJ\, BBQ and the impressive skills and energy these young riders bring. More details at www.surrey.ca/surreyrides
LOCATION:Skate parks throughout Surrey
UID:e.749.8233
SEQUENCE:3
DTSTAMP:20260421T102841Z
URL:https://business.swrbot.com/events/details/skateboard-scooter-and-bike-riders-05-05-2018-8233
END:VEVENT

END:VCALENDAR
