BEGIN:VCALENDAR
VERSION:2.0
PRODID:-//ChamberMaster//Event Calendar 2.0//EN
METHOD:PUBLISH
X-PUBLISHED-TTL:P3D
REFRESH-INTERVAL:P3D
CALSCALE:GREGORIAN
BEGIN:VEVENT
DTSTART:20141024T170000Z
DTEND:20141024T230000Z
X-MICROSOFT-CDO-ALLDAYEVENT:FALSE
SUMMARY:Small Business Advice-a-Thon
DESCRIPTION:In celebration of Small Business Month\, Benchmark Law Corporation is hosting a FREE Small Business Advice-a-Thon! Sign up for 20 minute sessions with lawyers\, accountants\, financial experts\, business coaches\, web designers\, and more. You can have as many sessions as you want! - Speakers and door prizes - The first 100 attendees will receive a resource package containing useful business documents\, coupons and products
X-ALT-DESC;FMTTYPE=text/html:In celebration of Small Business Month\, Benchmark Law Corporation is hosting a FREE Small Business Advice-a-Thon! Sign up for 20 minute sessions with lawyers\, accountants\, financial experts\, business coaches\, web designers\, and more. You can have as many sessions as you want! - Speakers and door prizes - The first 100 attendees will receive a resource package containing useful business documents\, coupons and products
LOCATION:Guildford Golf and Country Club
UID:e.749.2750
SEQUENCE:3
DTSTAMP:20260425T162547Z
URL:https://business.swrbot.com/events/details/small-business-advice-a-thon-10-24-2014-2750
END:VEVENT

END:VCALENDAR
