BEGIN:VCALENDAR
VERSION:2.0
PRODID:-//ChamberMaster//Event Calendar 2.0//EN
METHOD:PUBLISH
X-PUBLISHED-TTL:P3D
REFRESH-INTERVAL:P3D
CALSCALE:GREGORIAN
BEGIN:VEVENT
DTSTART:20200222T010000Z
DTEND:20200222T063000Z
X-MICROSOFT-CDO-ALLDAYEVENT:FALSE
SUMMARY:Small Business BC Awards Gala 2020
DESCRIPTION:This event is not hosted by the Surrey Board of Trade. Please contact the event hosts noted below for details.\n\n\n\nJoin us as we celebrate and showcase the leading small business owners making a difference from around British Columbia in the largest small business awards in the province. Enjoy dinner\, drinks\, and networking with BC's top business owners\, industry leaders and government officials as we announce the winners of the 17th Annual Small Business BC Awards sponsored by Canada Post. Take in glittering views of Vancouver Harbour and the north shore mountains from the award-winning Vancouver Convention Centre. Work the room at our networking reception and meet some of the most influential people in business! Congratulate our award winners and celebrate with those who are passionate about entrepreneurship. This is your opportunity to meet both the leading business owners in BC and the innovative up-and-comers.
X-ALT-DESC;FMTTYPE=text/html:<em><strong>This event is not hosted by the Surrey Board of Trade. Please contact the event hosts noted below for details.</strong></em><br />\n<br />\nJoin us as we celebrate and showcase the leading small business owners making a difference from around British Columbia in the largest small business awards in the province. Enjoy dinner\, drinks\, and networking with BC&rsquo\;s top business owners\, industry leaders and government officials as we announce the winners of the 17th Annual Small Business BC Awards sponsored by Canada Post. Take in glittering views of Vancouver Harbour and the north shore mountains from the award-winning Vancouver Convention Centre. Work the room at our networking reception and meet some of the most influential people in business! Congratulate our award winners and celebrate with those who are passionate about entrepreneurship. This is your opportunity to meet both the leading business owners in BC and the innovative up-and-comers.
LOCATION:Vancouver Convention Centre West Building 1055 Canada Place Vancouver\, BC V6C 0C3
UID:e.749.10883
SEQUENCE:3
DTSTAMP:20260420T070025Z
URL:https://business.swrbot.com/events/details/small-business-bc-awards-gala-2020-02-21-2020-10883
END:VEVENT

END:VCALENDAR
