BEGIN:VCALENDAR
VERSION:2.0
PRODID:-//ChamberMaster//Event Calendar 2.0//EN
METHOD:PUBLISH
X-PUBLISHED-TTL:P3D
REFRESH-INTERVAL:P3D
CALSCALE:GREGORIAN
BEGIN:VEVENT
DTSTART:20191121T173000Z
DTEND:20191121T210000Z
X-MICROSOFT-CDO-ALLDAYEVENT:FALSE
SUMMARY:Small Business Information Expo
DESCRIPTION:Your business. Your move. The 2019 Surrey Small Business Information Expo (SBIE) is here to help you. We'll have four hours of the things you need to know before you make your next move. All businesses are welcome - from pre-startup to established business looking to grow\, whether you are a local Surrey business or looking to go global. We'll be talking financing\, labour market\, government support programs\, and doing business with the city\, with the province and feds\, and even overseas. With over 20 organizations on hand to help and 3 presentation sessions\, you will find something at the 2019 SBIE to help your business grow.
X-ALT-DESC;FMTTYPE=text/html:Your business. Your move. The 2019 Surrey Small Business Information Expo (SBIE) is here to help you. We&rsquo\;ll have four hours of the things you need to know before you make your next move. All businesses are welcome - from pre-startup to established business looking to grow\, whether you are a local Surrey business or looking to go global. We&rsquo\;ll be talking financing\, labour market\, government support programs\, and doing business with the city\, with the province and feds\, and even overseas. With over 20 organizations on hand to help and 3 presentation sessions\, you will find something at the 2019 SBIE to help your business grow.
LOCATION:Surrey City Hall - 13450 104 Avenue Surrey\, BC\, V3T 1V8
UID:e.749.10696
SEQUENCE:3
DTSTAMP:20260420T111245Z
URL:https://business.swrbot.com/events/details/small-business-information-expo-11-21-2019-10696
END:VEVENT

END:VCALENDAR
