BEGIN:VCALENDAR
VERSION:2.0
PRODID:-//ChamberMaster//Event Calendar 2.0//EN
METHOD:PUBLISH
X-PUBLISHED-TTL:P3D
REFRESH-INTERVAL:P3D
CALSCALE:GREGORIAN
BEGIN:VEVENT
DTSTART:20181002T163000Z
DTEND:20181002T200000Z
X-MICROSOFT-CDO-ALLDAYEVENT:FALSE
SUMMARY:Small Business Information Expo - Build Your Business
DESCRIPTION:The 2018 Surrey SBIE lite - Build your Business (Tuesday\, Oct 2\, 2018 from 9:30 a.m.   1:00 p.m.) at Surrey City Hall brings together over 20 government and business support programs that provide valuable resources to small and medium businesses.\n\n\n\nAlong with a tradeshow the expo will host presentations on a number of interesting topics such as:\n\n- Selling to the Government\n\n- Access to Financing\n\n- Labour Market Possibilities This expo is free to attend!\n\n\n\nThank you!
X-ALT-DESC;FMTTYPE=text/html:The 2018 Surrey SBIE lite - Build your Business (Tuesday\, Oct 2\, 2018 from 9:30 a.m. &ndash\; 1:00 p.m.) at Surrey City Hall brings together over 20 government and business support programs that provide valuable resources to small and medium businesses.<br />\n<br />\nAlong with a tradeshow the expo will host presentations on a number of interesting topics such as:<br />\n- Selling to the Government<br />\n- Access to Financing<br />\n- Labour Market Possibilities This expo is free to attend!<br />\n<br />\nThank you!
LOCATION:Surrey City Hall - 13450 104 Avenue\, Surrey\, V3T 1V8
UID:e.749.9627
SEQUENCE:3
DTSTAMP:20260421T043028Z
URL:https://business.swrbot.com/events/details/small-business-information-expo-build-your-business-10-02-2018-9627
END:VEVENT

END:VCALENDAR
