BEGIN:VCALENDAR
VERSION:2.0
PRODID:-//ChamberMaster//Event Calendar 2.0//EN
METHOD:PUBLISH
X-PUBLISHED-TTL:P3D
REFRESH-INTERVAL:P3D
CALSCALE:GREGORIAN
BEGIN:VEVENT
DTSTART:20140829T000000Z
DTEND:20140829T023000Z
X-MICROSOFT-CDO-ALLDAYEVENT:FALSE
SUMMARY:SME Strategy Summer Social
DESCRIPTION:Do you love meeting great local business people ?\n\nHave you been looking for an opportunity to catch up over drinks with some of your friends?\n\nDo you have a list of people you're supposed to have "coffee" with but haven't been able to find a good time?\n\n \n\nDo all of those things and more at the SME Strategy Summer Social.\n\nBring a smile and lots of business cards\, and be prepared to have fun and meet some great people.\n\nTicket includes a drink and some appetizers.\n\nEarly bird pricing Available till August 19th\n \n\nContact me for sponsorship opportunities. They are welcome and very appreciated.
X-ALT-DESC;FMTTYPE=text/html:<p>Do you love meeting great local business people ?</p>\n\n<p>Have you been looking for an opportunity to catch up over drinks with some of your friends?</p>\n\n<p>Do you have a list of people you&#39\;re supposed to have &quot\;coffee&quot\; with but haven&#39\;t been able to find a good time?</p>\n\n<p>&nbsp\;</p>\n\n<p>Do all of those things and more at the SME Strategy Summer Social.</p>\n\n<p>Bring a smile and lots of business cards\, and be prepared to have fun and meet some great people.</p>\n\n<p><a href="http://www.eventbrite.ca/e/sme-strategy-summer-social-tickets-12565665243">Ticket includes</a> a drink and some appetizers.</p>\n\n<p><a href="http://www.eventbrite.ca/e/sme-strategy-summer-social-tickets-12565665243">Early bird pricing Available till August 19th</a></p>\n&nbsp\;\n\n<p>Contact me for sponsorship opportunities. They are welcome and very appreciated.&nbsp\;</p>\n
LOCATION:The Pint Public House- 455 Abbott Street\, Vancouver\, BC
UID:e.749.2705
SEQUENCE:3
DTSTAMP:20260425T190315Z
URL:https://business.swrbot.com/events/details/sme-strategy-summer-social-08-28-2014-2705
END:VEVENT

END:VCALENDAR
