BEGIN:VCALENDAR
VERSION:2.0
PRODID:-//ChamberMaster//Event Calendar 2.0//EN
METHOD:PUBLISH
X-PUBLISHED-TTL:P3D
REFRESH-INTERVAL:P3D
CALSCALE:GREGORIAN
BEGIN:VEVENT
DTSTART:20141212T013000Z
DTEND:20141212T043000Z
X-MICROSOFT-CDO-ALLDAYEVENT:FALSE
SUMMARY:SME Strategy Winter Mingler
DESCRIPTION:Come down to the Pint and meet some great people. Have great conversations with business owners\, entrepreneurs and change makers.\n\n\nJoin us on December 11th for the SME Strategy Consulting Winter Mingler.\n\nCome out and meet some great people\, enjoy some food and drink\, and have interesting and engaging conversation with some of Vancouver's best and brightest entrepreneurs.\n\nLet's enjoy each other's company\, share stories of successes and failures from 2014 and look forward to what they new year has in store for all of us.\n\nEvery attendee get a ticket for a beer or hi-ball and appetizers.\n\nI look forward to seeing you there.\n\nWarm regards\,\n\nAnthony Taylor\n\nPrincipal consultant- SME Strategy\n\n\n\nTerms & Conditions\n\nYou will have a good time\, no party poopers allowed. If you're one of those people that just runs around throwing your business card around and selling people\, you probably wont have a good time. :-)
X-ALT-DESC;FMTTYPE=text/html:<h2 class="ng-binding">Come down to the Pint and meet some great people. Have great conversations with business owners\, entrepreneurs and change makers.</h2>\n\n<div class="pte-full-description ng-binding" data-ng-bind-html="event.description" itemprop="description">\n<p>Join us on December 11th for the SME Strategy Consulting Winter Mingler.</p>\n\n<p>Come out and meet some great people\, enjoy some food and drink\, and have interesting and engaging conversation with some of Vancouver&#39\;s best and brightest entrepreneurs.</p>\n\n<p>Let&#39\;s enjoy each other&#39\;s company\, share stories of successes and failures from 2014 and look forward to what they new year has in store for all of us.</p>\n\n<p>Every attendee get a ticket for a beer or hi-ball and appetizers.</p>\n\n<p>I look forward to seeing you there.</p>\n\n<p>Warm regards\,</p>\n\n<p>Anthony Taylor</p>\n\n<p>Principal consultant- SME Strategy</p>\n</div>\n\n<div class="pte-terms-conditions ng-scope" data-ng-if="event.disclaimer">\n<h3>Terms &amp\; Conditions</h3>\n\n<div class="ng-binding" data-ng-bind-template="You will have a good time\, no party poopers allowed.\nIf you're one of those people that just runs around throwing your business card around and selling people\, you probably wont have a good time. :-)">You will have a good time\, no party poopers allowed. If you&#39\;re one of those people that just runs around throwing your business card around and selling people\, you probably wont have a good time. :-)</div>\n</div>\n
LOCATION:455 Abbott St\, Vancouver\, BC V6B 1S5\, Canada
UID:e.749.2830
SEQUENCE:3
DTSTAMP:20260425T140112Z
URL:https://business.swrbot.com/events/details/sme-strategy-winter-mingler-12-11-2014-2830
END:VEVENT

END:VCALENDAR
