BEGIN:VCALENDAR
VERSION:2.0
PRODID:-//ChamberMaster//Event Calendar 2.0//EN
METHOD:PUBLISH
X-PUBLISHED-TTL:P3D
REFRESH-INTERVAL:P3D
CALSCALE:GREGORIAN
BEGIN:VEVENT
DTSTART:20101021T193000Z
DTEND:20101021T231500Z
X-MICROSOFT-CDO-ALLDAYEVENT:FALSE
SUMMARY:Social Media and HR
DESCRIPTION:The BC HRMA presents "The Fundamentals of Social Media and HR" Workshop
X-ALT-DESC;FMTTYPE=text/html:The BC HRMA presents &ldquo\;The Fundamentals of Social Media and HR&rdquo\; Workshop
LOCATION:TBA
UID:e.749.1686
SEQUENCE:3
DTSTAMP:20260422T144931Z
URL:https://business.swrbot.com/events/details/social-media-and-hr-10-21-2010-1686
END:VEVENT

END:VCALENDAR
