BEGIN:VCALENDAR
VERSION:2.0
PRODID:-//ChamberMaster//Event Calendar 2.0//EN
METHOD:PUBLISH
X-PUBLISHED-TTL:P3D
REFRESH-INTERVAL:P3D
CALSCALE:GREGORIAN
BEGIN:VEVENT
DTSTART:20150712T013000Z
DTEND:20150712T053000Z
X-MICROSOFT-CDO-ALLDAYEVENT:FALSE
SUMMARY:Soirée en Blanc
DESCRIPTION:Support literacy at this elegant and entertaining gala evening "Soiree en Blanc". Features jazz vocalist Denzal Sinclaire and others.
X-ALT-DESC;FMTTYPE=text/html:Support literacy at this elegant and entertaining gala evening &quot\;Soiree en Blanc&quot\;. Features jazz vocalist Denzal Sinclaire and others.
LOCATION:City Centre Plaza: 10350 University Drive\, Surrey\, BC\, V3T 4B8
UID:e.749.3600
SEQUENCE:3
DTSTAMP:20260423T161348Z
URL:https://business.swrbot.com/events/details/soir&#233;e-en-blanc-07-11-2015-3600
END:VEVENT

END:VCALENDAR
