BEGIN:VCALENDAR
VERSION:2.0
PRODID:-//ChamberMaster//Event Calendar 2.0//EN
METHOD:PUBLISH
X-PUBLISHED-TTL:P3D
REFRESH-INTERVAL:P3D
CALSCALE:GREGORIAN
BEGIN:VEVENT
DTSTART:20181012T180000Z
DTEND:20181012T203000Z
X-MICROSOFT-CDO-ALLDAYEVENT:FALSE
SUMMARY:Sources 13th Annual Homelessness Awareness March
DESCRIPTION:SOURCES Housing Support Services is organizing the 13th Annual Homelessness Awareness March on Friday October 12th in Newton\, as communities across Metro Vancouver recognize Homelessness Action Week. Everyone is welcome and encouraged to participate! After opening the event\, there will be brief updates on the progress and the state of homelessness in Surrey\, before heading out on a 45-minute walk around Newton. Coffee will be provided prior to the March and a light lunch will be served afterwards. There will also be door prizes. New this year\, there will be a "House of Cans" Building Competition. Ten teams will collect dry food goods to build a "house." Donated food items will benefit the Sources and Surrey Food Banks\, while cash donations will go to Sources Housing Support Services.
X-ALT-DESC;FMTTYPE=text/html:SOURCES Housing Support Services is organizing the 13th Annual Homelessness Awareness March on Friday October 12th in Newton\, as communities across Metro Vancouver recognize Homelessness Action Week. Everyone is welcome and encouraged to participate! After opening the event\, there will be brief updates on the progress and the state of homelessness in Surrey\, before heading out on a 45-minute walk around Newton. Coffee will be provided prior to the March and a light lunch will be served afterwards. There will also be door prizes. New this year\, there will be a &ldquo\;House of Cans&rdquo\; Building Competition. Ten teams will collect dry food goods to build a &ldquo\;house.&rdquo\; Donated food items will benefit the Sources and Surrey Food Banks\, while cash donations will go to Sources Housing Support Services.
LOCATION:Sources Newton Resource Centre (#102 13771 72A Avenue. Surrey)
UID:e.749.9767
SEQUENCE:3
DTSTAMP:20260421T042524Z
URL:https://business.swrbot.com/events/details/sources-13th-annual-homelessness-awareness-march-10-12-2018-9767
END:VEVENT

END:VCALENDAR
