BEGIN:VCALENDAR
VERSION:2.0
PRODID:-//ChamberMaster//Event Calendar 2.0//EN
METHOD:PUBLISH
X-PUBLISHED-TTL:P3D
REFRESH-INTERVAL:P3D
CALSCALE:GREGORIAN
BEGIN:VEVENT
DTSTART:20171021T190000Z
DTEND:20171021T230000Z
X-MICROSOFT-CDO-ALLDAYEVENT:FALSE
SUMMARY:Spooktacular Newton
DESCRIPTION:Complete with trick-or-treating\, petting zoo\, kid fun zone\, face painting\, food trucks and a haunted train\, Spooktacular Newton has something for everyone. Don't miss the special dance performances by the Surrey Dance Company\, and kickback with some popcorn in our spook theatre. And don't forget to grab your free pumpkin by donation on your way out\, all proceeds going to the Surrey Food Bank. Be sure to come in your costume!
X-ALT-DESC;FMTTYPE=text/html:Complete with trick-or-treating\, petting zoo\, kid fun zone\, face painting\, food trucks and a haunted train\, Spooktacular Newton has something for everyone. Don&#39\;t miss the special dance performances by the Surrey Dance Company\, and kickback with some popcorn in our spook theatre. And don&#39\;t forget to grab your free pumpkin by donation on your way out\, all proceeds going to the Surrey Food Bank. Be sure to come in your costume!
LOCATION:The Newton Grove\, 13730 72 Avenue\, Surrey\, BC
UID:e.749.5500
SEQUENCE:3
DTSTAMP:20260421T192243Z
URL:https://business.swrbot.com/events/details/spooktacular-newton-10-21-2017-5500
END:VEVENT

END:VCALENDAR
