BEGIN:VCALENDAR
VERSION:2.0
PRODID:-//ChamberMaster//Event Calendar 2.0//EN
METHOD:PUBLISH
X-PUBLISHED-TTL:P3D
REFRESH-INTERVAL:P3D
CALSCALE:GREGORIAN
BEGIN:VEVENT
DTSTART:20151024T190000Z
DTEND:20151025T000000Z
X-MICROSOFT-CDO-ALLDAYEVENT:FALSE
SUMMARY:Spooktacular Newton
DESCRIPTION:Complete with trick-or-treating\, petting zoo\, kid fun zone\, face painting\, free BBQ and a haunted train\, Spooktacular Newton: Urban Pumpkin Patch has something for everyone. Don't miss the special dance performances by the Surrey Dance Company\, and kickback with some popcorn in our mini movie theatre. And don't forget to grab your free pumpkin by donation on your way out\, all proceeds going to the Surrey Food Bank. Be sure to come in your costume!
X-ALT-DESC;FMTTYPE=text/html:<p style="margin:0in\;font-family:Calibri\;font-size:11.0pt">Complete with trick-or-treating\, petting zoo\, kid fun zone\, face painting\, free BBQ and a haunted train\, Spooktacular Newton: Urban Pumpkin Patch has something for everyone. Don&#39\;t miss the special dance performances by the Surrey Dance Company\, and kickback with some popcorn in our mini movie theatre. And don&#39\;t forget to grab your free pumpkin by donation on your way out\, all proceeds going to the Surrey Food Bank. Be sure to come in your costume!</p>\n
LOCATION:Save-on-Foods Newton\, 7320 King George Blvd\, Surrey\, BC V3W5A5
UID:e.749.3694
SEQUENCE:3
DTSTAMP:20260423T211917Z
URL:https://business.swrbot.com/events/details/spooktacular-newton-10-24-2015-3694
END:VEVENT

END:VCALENDAR
