BEGIN:VCALENDAR
VERSION:2.0
PRODID:-//ChamberMaster//Event Calendar 2.0//EN
METHOD:PUBLISH
X-PUBLISHED-TTL:P3D
REFRESH-INTERVAL:P3D
CALSCALE:GREGORIAN
BEGIN:VEVENT
DTSTART:20170520T020000Z
DTEND:20170520T043000Z
X-MICROSOFT-CDO-ALLDAYEVENT:FALSE
SUMMARY:Spreading the Gospel Through Music\, Featuring Dr. Ron Kenoly
DESCRIPTION:Spreading the Gospel through Music\, a charity fundraising Gospel concert.\n\n\n\n\n\nFeaturing internationally renowned Praise and Worship leader: Dr. Ron Kenoly & Friends.\n\n\n\nIncluding two local recording artists: Tamara Kleinsasser and Theo Bessem.\n\n\n\nAlso performing:\n\n\n\n- Pentab of BC - Choir\n\n- Michelle Vanderhoef\n\n- Robyn St.Amand\n\n- Sue Penner\n\n- Gabby Magna\n\n\n\nProceeds to Holy Seed International and MercyTouch Mission International.
X-ALT-DESC;FMTTYPE=text/html:Spreading the Gospel through Music\, a charity fundraising Gospel concert.<br />\n<br />\n<br />\nFeaturing internationally renowned Praise and Worship leader: Dr. Ron Kenoly &amp\; Friends.<br />\n<br />\nIncluding two local recording artists: Tamara Kleinsasser and Theo Bessem.<br />\n<br />\nAlso performing:<br />\n<br />\n- Pentab of BC - Choir<br />\n- Michelle Vanderhoef<br />\n- Robyn St.Amand<br />\n- Sue Penner<br />\n- Gabby Magna<br />\n<br />\nProceeds to Holy Seed International and MercyTouch Mission International.
LOCATION:Chandos Pattison Auditorium 10238 168 Street Surrey\, BC V4N
UID:e.749.5337
SEQUENCE:3
DTSTAMP:20260422T013302Z
URL:https://business.swrbot.com/events/details/spreading-the-gospel-through-music-featuring-dr-ron-kenoly-05-19-2017-5337
END:VEVENT

END:VCALENDAR
