BEGIN:VCALENDAR
VERSION:2.0
PRODID:-//ChamberMaster//Event Calendar 2.0//EN
METHOD:PUBLISH
X-PUBLISHED-TTL:P3D
REFRESH-INTERVAL:P3D
CALSCALE:GREGORIAN
BEGIN:VEVENT
DTSTART:20140318T170000Z
DTEND:20140328T190000Z
X-MICROSOFT-CDO-ALLDAYEVENT:FALSE
SUMMARY:Spring Break Camp - Junior Environmentalist
DESCRIPTION:Spring Break is coming! We have a unique learning opportunity for your young animal enthusiast and environmentalist - the Junior Environmentalist Spring Break Camp for kids 6 to 12 yrs. We have 4 different camp dates and time to choose from with lots of crafts\, games\, and some hands on interaction with our animals. The kids will learn some basic concepts of environmentalism and learn how they can help conserve our environment at home. This is a very unique camp held a our unique facilities. Call Sharon at 604 531-1100 for more information.
X-ALT-DESC;FMTTYPE=text/html:Spring Break is coming! We have a unique learning opportunity for your young animal enthusiast and environmentalist - the Junior Environmentalist Spring Break Camp for kids 6 to 12 yrs. We have 4 different camp dates and time to choose from with lots of crafts\, games\, and some hands on interaction with our animals. The kids will learn some basic concepts of environmentalism and learn how they can help conserve our environment at home. This is a very unique camp held a our unique facilities. Call Sharon at 604 531-1100 for more information.
LOCATION:1395 176th St. South Surrey
UID:e.749.2556
SEQUENCE:3
DTSTAMP:20260425T235024Z
URL:https://business.swrbot.com/events/details/spring-break-camp-junior-environmentalist-03-18-2014-2556
END:VEVENT

END:VCALENDAR
