BEGIN:VCALENDAR
VERSION:2.0
PRODID:-//ChamberMaster//Event Calendar 2.0//EN
METHOD:PUBLISH
X-PUBLISHED-TTL:P3D
REFRESH-INTERVAL:P3D
CALSCALE:GREGORIAN
BEGIN:VEVENT
DTSTART:20170330T180000Z
DTEND:20170330T203000Z
X-MICROSOFT-CDO-ALLDAYEVENT:FALSE
SUMMARY:Spring Lunch
DESCRIPTION:Spring Lunch is an annual fundraiser celebrating the importance of mentorship. Held each spring\, this popular event features a distinguished keynote speaker and a personal story by a Little Sister or parent. This year\, we are delighted to host a Harvard-trained psychiatrist\, award-winning academic and #1 best selling author who routinely "prescribes" Big Sisters to many girls to help them achieve optimal health and well-being.
X-ALT-DESC;FMTTYPE=text/html:Spring Lunch is an annual fundraiser celebrating the importance of mentorship. Held each spring\, this popular event features a distinguished keynote speaker and a personal story by a Little Sister or parent. This year\, we are delighted to host a Harvard-trained psychiatrist\, award-winning academic and #1 best selling author who routinely &ldquo\;prescribes&rdquo\; Big Sisters to many girls to help them achieve optimal health and well-being.
LOCATION:Vancouver Convention Center's West Building Level II Ocean Foyer
UID:e.749.5276
SEQUENCE:3
DTSTAMP:20260422T044355Z
URL:https://business.swrbot.com/events/details/spring-lunch-03-30-2017-5276
END:VEVENT

END:VCALENDAR
