BEGIN:VCALENDAR
VERSION:2.0
PRODID:-//ChamberMaster//Event Calendar 2.0//EN
METHOD:PUBLISH
X-PUBLISHED-TTL:P3D
REFRESH-INTERVAL:P3D
CALSCALE:GREGORIAN
BEGIN:VEVENT
DTSTART:20190926T153000Z
DTEND:20190926T170000Z
X-MICROSOFT-CDO-ALLDAYEVENT:FALSE
SUMMARY:State of Newton
DESCRIPTION:You're invited to the 3rd Annual State of Newton\, presented by Newton Business Improvement Association & Surrey Board of Trade! With our keynote\, City of Surrey Mayor Doug McCallum\; State of Newton is an opportunity for the business community to engage in a dialogue that showcases the upcoming investment opportunities for Newton. Get your tickets today!
X-ALT-DESC;FMTTYPE=text/html:You&#39\;re invited to the 3rd Annual State of Newton\, presented by Newton Business Improvement Association &amp\; Surrey Board of Trade! With our keynote\, City of Surrey Mayor Doug McCallum\; State of Newton is an opportunity for the business community to engage in a dialogue that showcases the upcoming investment opportunities for Newton. Get your tickets today!
LOCATION:The Offices at Newton 4th Floor\, 7327 137th Street Surrey\, BC V3W 1A4
UID:e.749.10633
SEQUENCE:3
DTSTAMP:20260420T140231Z
URL:https://business.swrbot.com/events/details/state-of-newton-09-26-2019-10633
END:VEVENT

END:VCALENDAR
