BEGIN:VCALENDAR
VERSION:2.0
PRODID:-//ChamberMaster//Event Calendar 2.0//EN
METHOD:PUBLISH
X-PUBLISHED-TTL:P3D
REFRESH-INTERVAL:P3D
CALSCALE:GREGORIAN
BEGIN:VEVENT
DTSTART:20180927T153000Z
DTEND:20180927T180000Z
X-MICROSOFT-CDO-ALLDAYEVENT:FALSE
SUMMARY:State of Newton
DESCRIPTION:You're invited to the second annual State of Newton! With keynote speaker\, City of Surrey's Mayor Linda Hepner\, State of Newton is an opportunity for the business community to engage in a dialogue that showcases the upcoming investment opportunities for Newton.
X-ALT-DESC;FMTTYPE=text/html:You&#39\;re invited to the second annual State of Newton! With keynote speaker\, City of Surrey&#39\;s Mayor Linda Hepner\, State of Newton is an opportunity for the business community to engage in a dialogue that showcases the upcoming investment opportunities for Newton.
LOCATION:The Offices at Newton 7327 137th Street\, Surrey\, BC
UID:e.749.9707
SEQUENCE:3
DTSTAMP:20260421T054303Z
URL:https://business.swrbot.com/events/details/state-of-newton-09-27-2018-9707
END:VEVENT

END:VCALENDAR
