BEGIN:VCALENDAR
VERSION:2.0
PRODID:-//ChamberMaster//Event Calendar 2.0//EN
METHOD:PUBLISH
X-PUBLISHED-TTL:P3D
REFRESH-INTERVAL:P3D
CALSCALE:GREGORIAN
BEGIN:VEVENT
DTSTART:20171020T160000Z
DTEND:20171020T180000Z
X-MICROSOFT-CDO-ALLDAYEVENT:FALSE
SUMMARY:State of Newton
DESCRIPTION:The State of Newton is an opportunity for the business community to engage in a dialogue that showcases the upcoming investment opportunities for Newton. The presentation outlines the Newton BIA's proposals and policy directions for the upcoming year\, as well as a detail of the achievements of 2017.
X-ALT-DESC;FMTTYPE=text/html:The State of Newton is an opportunity for the business community to engage in a dialogue that showcases the upcoming investment opportunities for Newton. The presentation outlines the Newton BIA&rsquo\;s proposals and policy directions for the upcoming year\, as well as a detail of the achievements of 2017.
LOCATION:The Offices at Newton\, 7327 137 Street\, Surrey\, BC
UID:e.749.5501
SEQUENCE:3
DTSTAMP:20260421T192259Z
URL:https://business.swrbot.com/events/details/state-of-newton-10-20-2017-5501
END:VEVENT

END:VCALENDAR
