BEGIN:VCALENDAR
VERSION:2.0
PRODID:-//ChamberMaster//Event Calendar 2.0//EN
METHOD:PUBLISH
X-PUBLISHED-TTL:P3D
REFRESH-INTERVAL:P3D
CALSCALE:GREGORIAN
BEGIN:VEVENT
DTSTART:20101022T020000Z
DTEND:20101022T033000Z
X-MICROSOFT-CDO-ALLDAYEVENT:FALSE
SUMMARY:Stephen Lewis - "The World's Greatest Force for Good"
DESCRIPTION:Stephen Lewis\n\nThe World's Greatest Force for Good?\n\nThursday\, October 21st\n\n7:00 - 8:30pm\n\nBell Performing Arts Centre\n\n6250 - 144 Street\, Surrey BC\n\n$30.00 online registration: http://events.sd36.bc.ca/2010csp\n\nPresented by School District No. 36 (Surrey) and the City of Surrey\n\n\n\nMr. Lewis will explore the way in which education throughout the world transforms communities and the lives children lead\, and how it is perhaps the greatest\, unacknowledged instrument we have for dramatic social change. He will examine the importance of community in supporting the education of children in both a national and international contect.\n\n\n\nStephen Lewis is a Professor of Global Health in the Faculty of Social Sciences at McMaster University. He is Chair of the Board of the Stephen Lewis Foundation\, which is dedicated to turning the tide of HIV/AIDS in Africa as well as Co-Director of AIDS-Free World in the United States. From 1984 through 1988 Stephen Lewis was Canada?s Ambassador to the United Nations.
X-ALT-DESC;FMTTYPE=text/html:Stephen Lewis<br />\nThe World&#39\;s Greatest Force for Good?<br />\nThursday\, October 21st<br />\n7:00&nbsp\;- 8:30pm<br />\nBell Performing Arts Centre<br />\n6250&nbsp\;- 144 Street\, Surrey BC<br />\n$30.00 online registration: <a href="http://events.sd36.bc.ca/2010csp">http://events.sd36.bc.ca/2010csp</a><br />\nPresented by School District No. 36 (Surrey) and the City of Surrey<br />\n<br />\nMr. Lewis will explore the way in which education throughout the world transforms communities and the lives children lead\, and how it is perhaps the greatest\, unacknowledged instrument we have for dramatic social change. He will examine the importance of community in supporting the education of children in both a national and international contect.<br />\n<br />\nStephen Lewis is a Professor of Global Health in the Faculty of Social Sciences at McMaster University. He is Chair of the Board of the Stephen Lewis Foundation\, which is dedicated to turning the tide of HIV/AIDS in Africa as well as Co-Director of AIDS-Free World in the United States. From 1984 through 1988 Stephen Lewis was Canada?s Ambassador to the United Nations.<br />\n
LOCATION:Bell Performing Arts Centre 6250 -144 Street\, Surrey\, BC
UID:e.749.1695
SEQUENCE:3
DTSTAMP:20260422T144643Z
URL:https://business.swrbot.com/events/details/stephen-lewis-the-world-s-greatest-force-for-good-10-21-2010-1695
END:VEVENT

END:VCALENDAR
