BEGIN:VCALENDAR
VERSION:2.0
PRODID:-//ChamberMaster//Event Calendar 2.0//EN
METHOD:PUBLISH
X-PUBLISHED-TTL:P3D
REFRESH-INTERVAL:P3D
CALSCALE:GREGORIAN
BEGIN:VEVENT
DTSTART:20170908T170000Z
DTEND:20170908T190000Z
X-MICROSOFT-CDO-ALLDAYEVENT:FALSE
SUMMARY:Strike! How to Pitch through Storytelling
DESCRIPTION:People like a good story\, whether it's classic literature\, or a hit movie. Learn how to turn a basic Elevator Pitch or Slide Presentation into a BLOCKBUSTER that people will tell their friends about. You will have the opportunity to practice your storytelling skills on your fellow attendees. Let's see if they give you 5-Stars!!
X-ALT-DESC;FMTTYPE=text/html:People like a good story\, whether it&#39\;s classic literature\, or a hit movie. Learn how to turn a basic Elevator Pitch or Slide Presentation into a BLOCKBUSTER that people will tell their friends about. You will have the opportunity to practice your storytelling skills on your fellow attendees. Let&#39\;s see if they give you 5-Stars!!
LOCATION:Innovation Boulevard 13450 102 Avenue\, Suite 295 Surrey\, B.C.\, V3T 5X3
UID:e.749.5461
SEQUENCE:3
DTSTAMP:20260421T203618Z
URL:https://business.swrbot.com/events/details/strike-how-to-pitch-through-storytelling-09-08-2017-5461
END:VEVENT

END:VCALENDAR
