BEGIN:VCALENDAR
VERSION:2.0
PRODID:-//ChamberMaster//Event Calendar 2.0//EN
METHOD:PUBLISH
X-PUBLISHED-TTL:P3D
REFRESH-INTERVAL:P3D
CALSCALE:GREGORIAN
BEGIN:VEVENT
DTSTART:20140204T163000Z
DTEND:20140205T000000Z
X-MICROSOFT-CDO-ALLDAYEVENT:FALSE
SUMMARY:Succession Strength
DESCRIPTION:How to identify and develop the next generation of leaders: \n\n	\n\n	The 2014 HR Trends Survey shows that organizations need to put succession management at the top of their priority list. How we manage top talent and staff risks\, while challenged with gaps between required and existing skills is of significant importance to HR\; as is the need to build leadership capacity   for today's future.\n\n	\n\n	In this full-day workshop\, participants will take a closer look at how to plan\, develop\, manage and measure a succession pipeline for their next generation of leaders.\n\n	\n\n	Note: This workshop is also sold as a bundle. See below for details.\n \n\n	\n\n	You Will Learn:\n\n	          A framework for succession management including the key steps in the process.\n\n	          An overview of three models for evaluating employee potential. \n\n	          What to do if you don't have successors for key roles (internal and external pipeline management). \n\n	          An overview of three organizations and how they approached succession based on their unique needs. \n\n	          How to measure succession results using critical HR data. \n\n	          Discuss common challenges such as an aging workforce\, immigrant talent\, and union dynamics.\n\n	\n\n	Presenter:\n\n	\n\n	Natalie Michael is an Executive Coach and Leadership Development Consultant. She provides leadership coaching\, succession management and assessment services to a cross section of industries such as venture capital\, the public sector\, tourism\, and technology. Prior to becoming a coach and consultant\, she was an award winning HR professional with accolades such as Top 100 Employer\, Best Place to Work in BC\, and Top 50 Best Managed Company.\n\n	\n\n	She holds a Bachelors Degree in Psychology from Simon Fraser University. She is a Certified HR professional in Canada and the United States (CHRP\, SPHR)\, and she is a Certified Coach (CPCC). She has completed her Masters in Organizational Development from Fielding Graduate University where she did her thesis on coaching high achieving executive women.
X-ALT-DESC;FMTTYPE=text/html:<p class="MsoNormal" style="margin: 0in 0in 0pt\; line-height: 12pt\;">\n	<span><strong><font size="3"><font color="#00529b">How to identify and develop the next generation of leaders:<span style="color: rgb(68\, 68\, 68)\; font-family: &quot\;Arial&quot\;\,&quot\;sans-serif&quot\;\; font-size: 10pt\; mso-fareast-font-family: &quot\;Times New Roman&quot\;\;"><o:p></o:p></span></font></font></strong><em> </em><br />\n	<br />\n	The <a href="http://ht.ly/sxoS7" target="_blank"><span style="color: rgb(223\, 40\, 42)\; text-decoration: none\; text-underline: none\;">2014 HR Trends Survey</span></a> shows that organizations need to put succession management at the top of their priority list. How we manage top talent and staff risks\, while challenged with gaps between required and existing skills is of significant importance to HR\; as is the need to build leadership capacity &ndash\; for today&rsquo\;s future.<br />\n	<br />\n	In this full-day workshop\, participants will take a closer look at how to plan\, develop\, manage and measure a succession pipeline for their next generation of leaders.<br />\n	<br />\n	<b>Note</b>: This workshop is also sold as a bundle. See below for details.<o:p></o:p></span></p>\n<span style="color: rgb(68\, 68\, 68)\; font-family: &quot\;Arial&quot\;\,&quot\;sans-serif&quot\;\; font-size: 10pt\; mso-fareast-font-family: &quot\;Times New Roman&quot\;\;"><o:p></o:p></span><font color="#000000" face="Times New Roman" size="3"> </font>\n<p class="MsoNormal" style="margin: 0in 0in 0pt\; line-height: 12pt\;">\n	<br />\n	<b><span style="color: rgb(0\, 82\, 155)\; font-family: &quot\;Arial&quot\;\,&quot\;sans-serif&quot\;\; font-size: 12pt\; mso-fareast-font-family: &quot\;Times New Roman&quot\;\;">You Will Learn:</span></b><span style="color: rgb(68\, 68\, 68)\; font-family: &quot\;Arial&quot\;\,&quot\;sans-serif&quot\;\; font-size: 10pt\; mso-fareast-font-family: &quot\;Times New Roman&quot\;\;"><o:p></o:p></span></p>\n<p class="MsoNormal" style="margin: 0in 0in 10pt\; line-height: 12pt\; text-indent: -0.25in\; mso-margin-top-alt: auto\; mso-margin-bottom-alt: auto\; mso-list: l0 level1 lfo1\; tab-stops: list .5in\;">\n	<span style="color: rgb(68\, 68\, 68)\; font-family: Symbol\; font-size: 10pt\; mso-fareast-font-family: Symbol\; mso-bidi-font-family: Symbol\;"><span style="mso-list: Ignore\;">&middot\;<span style="font: 7pt/normal &quot\;Times New Roman&quot\;\; font-size-adjust: none\; font-stretch: normal\;">&nbsp\;&nbsp\;&nbsp\;&nbsp\;&nbsp\;&nbsp\;&nbsp\;&nbsp\; </span></span></span><span style="color: rgb(68\, 68\, 68)\; font-family: &quot\;Arial&quot\;\,&quot\;sans-serif&quot\;\; font-size: 10pt\; mso-fareast-font-family: &quot\;Times New Roman&quot\;\;">A framework for succession management including the key steps in the process.<o:p></o:p></span></p>\n<p class="MsoNormal" style="margin: 0in 0in 10pt\; line-height: 12pt\; text-indent: -0.25in\; mso-margin-top-alt: auto\; mso-margin-bottom-alt: auto\; mso-list: l0 level1 lfo1\; tab-stops: list .5in\;">\n	<span style="color: rgb(68\, 68\, 68)\; font-family: Symbol\; font-size: 10pt\; mso-fareast-font-family: Symbol\; mso-bidi-font-family: Symbol\;"><span style="mso-list: Ignore\;">&middot\;<span style="font: 7pt/normal &quot\;Times New Roman&quot\;\; font-size-adjust: none\; font-stretch: normal\;">&nbsp\;&nbsp\;&nbsp\;&nbsp\;&nbsp\;&nbsp\;&nbsp\;&nbsp\; </span></span></span><span style="color: rgb(68\, 68\, 68)\; font-family: &quot\;Arial&quot\;\,&quot\;sans-serif&quot\;\; font-size: 10pt\; mso-fareast-font-family: &quot\;Times New Roman&quot\;\;">An overview of three models for evaluating employee potential. <o:p></o:p></span></p>\n<p class="MsoNormal" style="margin: 0in 0in 10pt\; line-height: 12pt\; text-indent: -0.25in\; mso-margin-top-alt: auto\; mso-margin-bottom-alt: auto\; mso-list: l0 level1 lfo1\; tab-stops: list .5in\;">\n	<span style="color: rgb(68\, 68\, 68)\; font-family: Symbol\; font-size: 10pt\; mso-fareast-font-family: Symbol\; mso-bidi-font-family: Symbol\;"><span style="mso-list: Ignore\;">&middot\;<span style="font: 7pt/normal &quot\;Times New Roman&quot\;\; font-size-adjust: none\; font-stretch: normal\;">&nbsp\;&nbsp\;&nbsp\;&nbsp\;&nbsp\;&nbsp\;&nbsp\;&nbsp\; </span></span></span><span style="color: rgb(68\, 68\, 68)\; font-family: &quot\;Arial&quot\;\,&quot\;sans-serif&quot\;\; font-size: 10pt\; mso-fareast-font-family: &quot\;Times New Roman&quot\;\;">What to do if you don&rsquo\;t have successors for key roles (internal and external pipeline management). <o:p></o:p></span></p>\n<p class="MsoNormal" style="margin: 0in 0in 10pt\; line-height: 12pt\; text-indent: -0.25in\; mso-margin-top-alt: auto\; mso-margin-bottom-alt: auto\; mso-list: l0 level1 lfo1\; tab-stops: list .5in\;">\n	<span style="color: rgb(68\, 68\, 68)\; font-family: Symbol\; font-size: 10pt\; mso-fareast-font-family: Symbol\; mso-bidi-font-family: Symbol\;"><span style="mso-list: Ignore\;">&middot\;<span style="font: 7pt/normal &quot\;Times New Roman&quot\;\; font-size-adjust: none\; font-stretch: normal\;">&nbsp\;&nbsp\;&nbsp\;&nbsp\;&nbsp\;&nbsp\;&nbsp\;&nbsp\; </span></span></span><span style="color: rgb(68\, 68\, 68)\; font-family: &quot\;Arial&quot\;\,&quot\;sans-serif&quot\;\; font-size: 10pt\; mso-fareast-font-family: &quot\;Times New Roman&quot\;\;">An overview of three organizations and how they approached succession based on their unique needs. <o:p></o:p></span></p>\n<p class="MsoNormal" style="margin: 0in 0in 10pt\; line-height: 12pt\; text-indent: -0.25in\; mso-margin-top-alt: auto\; mso-margin-bottom-alt: auto\; mso-list: l0 level1 lfo1\; tab-stops: list .5in\;">\n	<span style="color: rgb(68\, 68\, 68)\; font-family: Symbol\; font-size: 10pt\; mso-fareast-font-family: Symbol\; mso-bidi-font-family: Symbol\;"><span style="mso-list: Ignore\;">&middot\;<span style="font: 7pt/normal &quot\;Times New Roman&quot\;\; font-size-adjust: none\; font-stretch: normal\;">&nbsp\;&nbsp\;&nbsp\;&nbsp\;&nbsp\;&nbsp\;&nbsp\;&nbsp\; </span></span></span><span style="color: rgb(68\, 68\, 68)\; font-family: &quot\;Arial&quot\;\,&quot\;sans-serif&quot\;\; font-size: 10pt\; mso-fareast-font-family: &quot\;Times New Roman&quot\;\;">How to measure succession results using critical HR data. <o:p></o:p></span></p>\n<p class="MsoNormal" style="margin: 0in 0in 10pt\; line-height: 12pt\; text-indent: -0.25in\; mso-margin-top-alt: auto\; mso-margin-bottom-alt: auto\; mso-list: l0 level1 lfo1\; tab-stops: list .5in\;">\n	<span style="color: rgb(68\, 68\, 68)\; font-family: Symbol\; font-size: 10pt\; mso-fareast-font-family: Symbol\; mso-bidi-font-family: Symbol\;"><span style="mso-list: Ignore\;">&middot\;<span style="font: 7pt/normal &quot\;Times New Roman&quot\;\; font-size-adjust: none\; font-stretch: normal\;">&nbsp\;&nbsp\;&nbsp\;&nbsp\;&nbsp\;&nbsp\;&nbsp\;&nbsp\; </span></span></span><span style="color: rgb(68\, 68\, 68)\; font-family: &quot\;Arial&quot\;\,&quot\;sans-serif&quot\;\; font-size: 10pt\; mso-fareast-font-family: &quot\;Times New Roman&quot\;\;">Discuss common challenges such as an aging workforce\, immigrant talent\, and union dynamics.<o:p></o:p></span></p>\n<p class="MsoNormal" style="margin: 0in 0in 0pt\; line-height: 12pt\;">\n	<br />\n	<b><span style="color: rgb(0\, 82\, 155)\; font-family: &quot\;Arial&quot\;\,&quot\;sans-serif&quot\;\; font-size: 12pt\; mso-fareast-font-family: &quot\;Times New Roman&quot\;\;">Presenter:</span></b><span style="color: rgb(68\, 68\, 68)\; font-family: &quot\;Arial&quot\;\,&quot\;sans-serif&quot\;\; font-size: 10pt\; mso-fareast-font-family: &quot\;Times New Roman&quot\;\;"><o:p></o:p></span></p>\n<p class="MsoNormal" style="margin: 0in 0in 0pt\; line-height: 12pt\;">\n	<br />\n	<b><span style="color: rgb(68\, 68\, 68)\; font-family: &quot\;Arial&quot\;\,&quot\;sans-serif&quot\;\; font-size: 10pt\; mso-fareast-font-family: &quot\;Times New Roman&quot\;\;">Natalie Michael</span></b><span style="color: rgb(68\, 68\, 68)\; font-family: &quot\;Arial&quot\;\,&quot\;sans-serif&quot\;\; font-size: 10pt\; mso-fareast-font-family: &quot\;Times New Roman&quot\;\;"> is an Executive Coach and Leadership Development Consultant. She provides leadership coaching\, succession management and assessment services to a cross section of industries such as venture capital\, the public sector\, tourism\, and technology. Prior to becoming a coach and consultant\, she was an award winning HR professional with accolades such as Top 100 Employer\, Best Place to Work in BC\, and Top 50 Best Managed Company.<br />\n	<br />\n	She holds a Bachelors Degree in Psychology from Simon Fraser University. She is a Certified HR professional in Canada and the United States (CHRP\, SPHR)\, and she is a Certified Coach (CPCC). She has completed her Masters in Organizational Development from Fielding Graduate University where she did her thesis on coaching high achieving executive women.<o:p></o:p></span></p>\n<p class="MsoNormal" style="margin: 0in 0in 10pt\;">\n	<o:p><font color="#000000" face="Calibri" size="3">&nbsp\;</font></o:p></p>\n
LOCATION:Sheraton Guildford Hotel\, 15269 104 Ave\, Surrey\, BC
UID:e.749.2543
SEQUENCE:3
DTSTAMP:20260426T021250Z
URL:https://business.swrbot.com/events/details/succession-strength-02-04-2014-2543
END:VEVENT

END:VCALENDAR
