BEGIN:VCALENDAR
VERSION:2.0
PRODID:-//ChamberMaster//Event Calendar 2.0//EN
METHOD:PUBLISH
X-PUBLISHED-TTL:P3D
REFRESH-INTERVAL:P3D
CALSCALE:GREGORIAN
BEGIN:VEVENT
DTSTART:20140823T190000Z
DTEND:20140823T190000Z
X-MICROSOFT-CDO-ALLDAYEVENT:FALSE
SUMMARY:Summer Corn Roast
DESCRIPTION:Summer Corn Roast at Chartwell Imperial Place Retirement Residence. Join us as Chef Warren fires up the grill. Enjoy our corn shucking contest\, corn dogs\, popcorn\, corny caricatures\, coolers and country Celtic music with the Pat Chassell Band. Free community event for seniors and their families. RSVP to Dale at 778 ? 735 ? 0541.
X-ALT-DESC;FMTTYPE=text/html:Summer Corn Roast at Chartwell Imperial Place Retirement Residence. Join us as Chef Warren fires up the grill. Enjoy our corn shucking contest\, corn dogs\, popcorn\, corny caricatures\, coolers and country Celtic music with the Pat Chassell Band. Free community event for seniors and their families. RSVP to Dale at 778 ? 735 ? 0541.
LOCATION:Chartwell Imperial Place Retirement Residence 13853 - 102nd Avenue\, Surrey
UID:e.749.2703
SEQUENCE:3
DTSTAMP:20260425T175316Z
URL:https://business.swrbot.com/events/details/summer-corn-roast-08-23-2014-2703
END:VEVENT

END:VCALENDAR
