BEGIN:VCALENDAR
VERSION:2.0
PRODID:-//ChamberMaster//Event Calendar 2.0//EN
METHOD:PUBLISH
X-PUBLISHED-TTL:P3D
REFRESH-INTERVAL:P3D
CALSCALE:GREGORIAN
BEGIN:VEVENT
DTSTART:20170705T040000Z
DTEND:20170824T223000Z
X-MICROSOFT-CDO-ALLDAYEVENT:FALSE
SUMMARY:Summer Day Camps
DESCRIPTION:Kick-start your child's summer this July! Connecting kids to nature is the best way to teach them to care for your environment. Burns Bog Summer Camps get kids outside to exercise\, socialize\, create\, & discover all that nature has to offer. It lets your child learn from exciting activities right in your backyard! The camp is entirely outdoors and runs rain or shine. Programs are geared towards kids aged 6 to 12.
X-ALT-DESC;FMTTYPE=text/html:Kick-start your child&rsquo\;s summer this July! Connecting kids to nature is the best way to teach them to care for your environment. Burns Bog Summer Camps get kids outside to exercise\, socialize\, create\, &amp\; discover all that nature has to offer. It lets your child learn from exciting activities right in your backyard! The camp is entirely outdoors and runs rain or shine. Programs are geared towards kids aged 6 to 12.
LOCATION:10388 Nordel Court\, Delta\, BC\, V4G 1J9
UID:e.749.5237
SEQUENCE:3
DTSTAMP:20260421T214610Z
URL:https://business.swrbot.com/events/details/summer-day-camps-07-04-2017-5237
END:VEVENT

END:VCALENDAR
