BEGIN:VCALENDAR
VERSION:2.0
PRODID:-//ChamberMaster//Event Calendar 2.0//EN
METHOD:PUBLISH
X-PUBLISHED-TTL:P3D
REFRESH-INTERVAL:P3D
CALSCALE:GREGORIAN
BEGIN:VEVENT
DTSTART:20160704T160000Z
DTEND:20160704T223000Z
X-MICROSOFT-CDO-ALLDAYEVENT:FALSE
SUMMARY:Summer Day Camps at Burns Bog
DESCRIPTION:Your children can learn about nature & Burns Bog while having a lot of fun! There are a range of activities which include crafts\, experiments\, demonstrations\, games\, and team-building activities which all engage the imagination. Camps available in English and French. Contact the Burns Bog Conservation Society for more information!
X-ALT-DESC;FMTTYPE=text/html:Your children can learn about nature &amp\; Burns Bog while having a lot of fun! There are a range of activities which include crafts\, experiments\, demonstrations\, games\, and team-building activities which all engage the imagination. Camps available in English and French. Contact the Burns Bog Conservation Society for more information!
LOCATION:Delta Nature Reserve 10388 Nordel Court\, Delta\, BC V4G 1J7
UID:e.749.4895
SEQUENCE:3
DTSTAMP:20260424T081247Z
URL:https://business.swrbot.com/events/details/summer-day-camps-at-burns-bog-07-04-2016-4895
END:VEVENT

END:VCALENDAR
