BEGIN:VCALENDAR
VERSION:2.0
PRODID:-//ChamberMaster//Event Calendar 2.0//EN
METHOD:PUBLISH
X-PUBLISHED-TTL:P3D
REFRESH-INTERVAL:P3D
CALSCALE:GREGORIAN
BEGIN:VEVENT
DTSTART:20190509T143000Z
DTEND:20190509T163000Z
X-MICROSOFT-CDO-ALLDAYEVENT:FALSE
SUMMARY:Surrey Business Networking – Promote your Business and Build a Referral Team
DESCRIPTION:*THIS IS NOT A SURREY BOARD OF TRADE EVENT*\n\n\n\nLooking for a dynamic environment to promote your business? Tired of unqualified referrals?\n\n\n\nOur belief is people do business with people they know like and trust.\n\n\n\nCome out and create new referral opportunities.\n\n\n\nBrought to you by: Surrey Networking Partners
X-ALT-DESC;FMTTYPE=text/html:<strong>*THIS IS NOT A SURREY BOARD OF TRADE EVENT*</strong><br />\n<br />\nLooking for a dynamic environment to promote your business? Tired of unqualified referrals?<br />\n<br />\nOur belief is people do business with people they know like and trust.<br />\n<br />\nCome out and create new referral opportunities.<br />\n<br />\nBrought to you by: Surrey Networking Partners
LOCATION:Knight and Day Restaurant 9677 King George Blvd.
UID:e.749.8081
SEQUENCE:3
DTSTAMP:20260420T191804Z
URL:https://business.swrbot.com/events/details/surrey-business-networking-promote-your-business-and-build-a-referral-team-05-09-2019-8081
END:VEVENT

END:VCALENDAR
