BEGIN:VCALENDAR
VERSION:2.0
PRODID:-//ChamberMaster//Event Calendar 2.0//EN
METHOD:PUBLISH
X-PUBLISHED-TTL:P3D
REFRESH-INTERVAL:P3D
CALSCALE:GREGORIAN
BEGIN:VEVENT
DTSTART:20180830T143000Z
DTEND:20180830T163000Z
X-MICROSOFT-CDO-ALLDAYEVENT:FALSE
SUMMARY:Surrey Business Networking – See You in September!
DESCRIPTION:*We are taking August off to attending to some business and personal activities.*\n\n\nRegular meetings will resume on Thursday\, September 6th. See you there.\n____\n\n\n\nLooking for a dynamic environment to promote your business? Tired of unqualified referrals?\n\n\n\nOur belief is people do business with people they know like and trust.\n\n\n\nCome out and create new referral opportunities.\n\n\n\nBrought to you by: Surrey Networking Partners
X-ALT-DESC;FMTTYPE=text/html:*<span style="color: rgb(80\, 0\, 80)\; font-family: arial\, sans-serif\; font-size: 12.8px\;">We are taking August off to attending to some business and personal activities.*</span>\n<div style="color: rgb(80\, 0\, 80)\; font-family: arial\, sans-serif\; font-size: 12.8px\;"><br />\nRegular meetings will resume on Thursday\, September 6th. See you there.</div>\n____<br />\n<br />\nLooking for a dynamic environment to promote your business? Tired of unqualified referrals?<br />\n<br />\nOur belief is people do business with people they know like and trust.<br />\n<br />\nCome out and create new referral opportunities.<br />\n<br />\nBrought to you by: Surrey Networking Partners
LOCATION:Knight and Day Restaurant 9677 King George Blvd.
UID:e.749.8045
SEQUENCE:3
DTSTAMP:20260421T065148Z
URL:https://business.swrbot.com/events/details/surrey-business-networking-see-you-in-september-08-30-2018-8045
END:VEVENT

END:VCALENDAR
