BEGIN:VCALENDAR
VERSION:2.0
PRODID:-//ChamberMaster//Event Calendar 2.0//EN
METHOD:PUBLISH
X-PUBLISHED-TTL:P3D
REFRESH-INTERVAL:P3D
CALSCALE:GREGORIAN
BEGIN:VEVENT
DTSTART:20170701T170000Z
DTEND:20170702T053000Z
X-MICROSOFT-CDO-ALLDAYEVENT:FALSE
SUMMARY:Surrey Canada Day
DESCRIPTION:Bill Reid Millennium Amphitheatre Surrey\, BC Canada 176 Street & 64th Surrey's Canada Day Celebration is a FREE event that has become a "legendary" experience that brings together families and children of all ages and cultures\, welcoming over 100\,000 people! The celebration of our National Birthday will activate from 10:00am-10:30pm on\, July 1st\, 2016 at the Cloverdale Amphitheatre. The event will feature various activities and attractions including headline performers\, amusement rides\, interactive display booths\, a Grand March\, including Mayor\, Council and dignitaries and much more. Be sure to stay all night and experience the fireworks finale!
X-ALT-DESC;FMTTYPE=text/html:Bill Reid Millennium Amphitheatre Surrey\, BC Canada 176 Street &amp\; 64th Surrey&#39\;s Canada Day Celebration is a FREE event that has become a &quot\;legendary&quot\; experience that brings together families and children of all ages and cultures\, welcoming over 100\,000 people! The celebration of our National Birthday will activate from 10:00am-10:30pm on\, July 1st\, 2016 at the Cloverdale Amphitheatre. The event will feature various activities and attractions including headline performers\, amusement rides\, interactive display booths\, a Grand March\, including Mayor\, Council and dignitaries and much more. Be sure to stay all night and experience the fireworks finale!
LOCATION:Bill Reid Millennium Amphitheatre Surrey\, BC Canada 176 Street & 64th
UID:e.749.5250
SEQUENCE:3
DTSTAMP:20260422T000913Z
URL:https://business.swrbot.com/events/details/surrey-canada-day-07-01-2017-5250
END:VEVENT

END:VCALENDAR
