BEGIN:VCALENDAR
VERSION:2.0
PRODID:-//ChamberMaster//Event Calendar 2.0//EN
METHOD:PUBLISH
X-PUBLISHED-TTL:P3D
REFRESH-INTERVAL:P3D
CALSCALE:GREGORIAN
BEGIN:VEVENT
DTSTART:20180930T150000Z
DTEND:20180930T190000Z
X-MICROSOFT-CDO-ALLDAYEVENT:FALSE
SUMMARY:Surrey - Canadian Cancer Society CIBC Run for the Cure
DESCRIPTION:EVENT SCHEDULE: \n\nRegistration: 8:00 AM\n\nOpening Ceremonies: 9:00 AM Survivor\n\nParade: 9:30 AM\n\nWarm Up: 9:45 AM\n\nStart: 10:00 AM (5k or 1k walk or run)\n\nAwards & Closing Ceremonies: 11:00 AM\n\n	Sign up to volunteer: https://cbcf.volunteerhub.com/lp/surrey/events\n	Sign up to run/walk 1km or 5km as an individual or as a team: http://cibcrunforthecure.com/surrey\n\nEarly Registration We are pleased to offer participants the opportunity to take advantage of the $40 registration donation from May - August 30\, 2018.\n\n\n\nFor adults who fundraise $150 or more and youth (under 18) who raise $60 or more the registration will be waived. Team Registration 10 members or more receive t-shirts with your team's name on the back - DEADLINE SEPT 13\, 2018
X-ALT-DESC;FMTTYPE=text/html:<strong>EVENT SCHEDULE: </strong><br />\nRegistration: 8:00 AM<br />\nOpening Ceremonies: 9:00 AM Survivor<br />\nParade: 9:30 AM<br />\nWarm Up: 9:45 AM<br />\nStart: 10:00 AM (5k or 1k walk or run)<br />\nAwards &amp\; Closing Ceremonies: 11:00 AM\n<ul>\n	<li>Sign up to volunteer: https://cbcf.volunteerhub.com/lp/surrey/events</li>\n	<li>Sign up to run/walk 1km or 5km as an individual or as a team: http://cibcrunforthecure.com/surrey</li>\n</ul>\nEarly Registration&mdash\;We are pleased to offer participants the opportunity to take advantage of the $40 registration donation from May - August 30\, 2018.<br />\n<br />\nFor adults who fundraise $150 or more and youth (under 18) who raise $60 or more the registration will be waived. Team Registration&mdash\;10 members or more receive t-shirts with your team&rsquo\;s name on the back - <strong>DEADLINE SEPT 13\, 2018</strong>
LOCATION:Bear Creek Park (13820 88 Ave\, Surrey\, BC V3W 3L1)
UID:e.749.9686
SEQUENCE:3
DTSTAMP:20260421T054550Z
URL:https://business.swrbot.com/events/details/surrey-canadian-cancer-society-cibc-run-for-the-cure-09-30-2018-9686
END:VEVENT

END:VCALENDAR
