BEGIN:VCALENDAR
VERSION:2.0
PRODID:-//ChamberMaster//Event Calendar 2.0//EN
METHOD:PUBLISH
X-PUBLISHED-TTL:P3D
REFRESH-INTERVAL:P3D
CALSCALE:GREGORIAN
BEGIN:VEVENT
DTSTART:20150507T010000Z
DTEND:20150507T030000Z
X-MICROSOFT-CDO-ALLDAYEVENT:FALSE
SUMMARY:Surrey Crime Prevention Society AGM
DESCRIPTION:Please join us for our Annual General Meeting and overview of the amazing work our volunteers have conducted over the past year.
X-ALT-DESC;FMTTYPE=text/html:Please join us for our Annual General Meeting and overview of the amazing work our volunteers have conducted over the past year.
LOCATION:City of Surrey Council Chambers 13450 - 104 Avenue Surrey\, BC\, Canada V3T 1V8
UID:e.749.3576
SEQUENCE:3
DTSTAMP:20260423T133408Z
URL:https://business.swrbot.com/events/details/surrey-crime-prevention-society-agm-05-06-2015-3576
END:VEVENT

END:VCALENDAR
