BEGIN:VCALENDAR
VERSION:2.0
PRODID:-//ChamberMaster//Event Calendar 2.0//EN
METHOD:PUBLISH
X-PUBLISHED-TTL:P3D
REFRESH-INTERVAL:P3D
CALSCALE:GREGORIAN
BEGIN:VEVENT
DTSTART:20150128T193000Z
DTEND:20150128T213000Z
X-MICROSOFT-CDO-ALLDAYEVENT:FALSE
SUMMARY:Surrey Delta Valley Women's Network
DESCRIPTION:Come join our Networking luncheon and share your business ideas/passions. Speaker: Sheryl Stanton - Topic: 3 Massive Mistakes Even Smart Women Make That Keep Them Over-Stressed\, Unhappy and Unhealthy
X-ALT-DESC;FMTTYPE=text/html:Come join our Networking luncheon and share your business ideas/passions. Speaker: Sheryl Stanton - Topic: 3 Massive Mistakes Even Smart Women Make That Keep Them Over-Stressed\, Unhappy and Unhealthy
LOCATION:Eagle Quest Golf Club 7778 - 152nd street\, Surrey
UID:e.749.2864
SEQUENCE:3
DTSTAMP:20260425T111942Z
URL:https://business.swrbot.com/events/details/surrey-delta-valley-women-s-network-01-28-2015-2864
END:VEVENT

END:VCALENDAR
