BEGIN:VCALENDAR
VERSION:2.0
PRODID:-//ChamberMaster//Event Calendar 2.0//EN
METHOD:PUBLISH
X-PUBLISHED-TTL:P3D
REFRESH-INTERVAL:P3D
CALSCALE:GREGORIAN
BEGIN:VEVENT
DTSTART:20151123T000000Z
DTEND:20151123T023000Z
X-MICROSOFT-CDO-ALLDAYEVENT:FALSE
SUMMARY:Surrey Eagles vs Wenatchee Wild
DESCRIPTION:Come cheer on your Surrey Eagles as they take on the Wenatchee Wild\, a divisional rival.\n\n\n\nSunday games feature a FREE post game skate\, player autographs\, face painting and kids zone.\n\n\n\nFormer Surrey Eagles captain Ilan Cumberbirch will drop the ceremonial puck and be signing autographs.
X-ALT-DESC;FMTTYPE=text/html:Come cheer on your Surrey Eagles as they take on the Wenatchee Wild\, a divisional rival.<br />\n<br />\nSunday games feature a FREE post game skate\, player autographs\, face painting and kids zone.<br />\n<br />\nFormer Surrey Eagles captain Ilan Cumberbirch will drop the ceremonial puck and be signing autographs.
LOCATION:South Surrey Arena 2199- 148th Street
UID:e.749.3715
SEQUENCE:3
DTSTAMP:20260423T225658Z
URL:https://business.swrbot.com/events/details/surrey-eagles-vs-wenatchee-wild-11-22-2015-3715
END:VEVENT

END:VCALENDAR
