BEGIN:VCALENDAR
VERSION:2.0
PRODID:-//ChamberMaster//Event Calendar 2.0//EN
METHOD:PUBLISH
X-PUBLISHED-TTL:P3D
REFRESH-INTERVAL:P3D
CALSCALE:GREGORIAN
BEGIN:VEVENT
DTSTART:20170722T180000Z
DTEND:20170724T050000Z
X-MICROSOFT-CDO-ALLDAYEVENT:FALSE
SUMMARY:Surrey Fusion Festival
DESCRIPTION:Surrey's Fusion Festival is truly the ultimate celebration of music\, food and culture\, bringing together many distinct cultural heritages represented by ethnic groups and service clubs within our community. Awarded Best Cultural Event in Canada\, Surrey Fusion Festival features over 70 acts on four stages\, and over 45 pavilions representing the music\, food\, tradition clothing and dance of many diverse national backgrounds. This FREE outdoor festival creates a celebration of international cooperation in the spirit of harmony.
X-ALT-DESC;FMTTYPE=text/html:Surrey&#39\;s Fusion Festival is truly the ultimate celebration of music\, food and culture\, bringing together many distinct cultural heritages represented by ethnic groups and service clubs within our community. Awarded Best Cultural Event in Canada\, Surrey Fusion Festival features over 70 acts on four stages\, and over 45 pavilions representing the music\, food\, tradition clothing and dance of many diverse national backgrounds. This FREE outdoor festival creates a celebration of international cooperation in the spirit of harmony.
LOCATION:Holland Park\, Surrey 13428 Old Yale Rd\, Surrey BC V3T 2W1
UID:e.749.5251
SEQUENCE:3
DTSTAMP:20260421T230302Z
URL:https://business.swrbot.com/events/details/surrey-fusion-festival-07-22-2017-5251
END:VEVENT

END:VCALENDAR
