BEGIN:VCALENDAR
VERSION:2.0
PRODID:-//ChamberMaster//Event Calendar 2.0//EN
METHOD:PUBLISH
X-PUBLISHED-TTL:P3D
REFRESH-INTERVAL:P3D
CALSCALE:GREGORIAN
BEGIN:VEVENT
DTSTART:20200125T190000Z
DTEND:20200125T220000Z
X-MICROSOFT-CDO-ALLDAYEVENT:FALSE
SUMMARY:Surrey Libraries EXPO
DESCRIPTION:Come experience this showcase of all the wonderful things Surrey Libraries offers your community. Visit our Pop-Up branch to see the latest reading releases\, join our Dot & Dash Robotics coding sessions\, crafts stations\, LEGO table\, Early Years Play Area and more. There is truly something for everyone at Surrey Libraries!
X-ALT-DESC;FMTTYPE=text/html:Come experience this showcase of all the wonderful things Surrey Libraries offers your community. Visit our Pop-Up branch to see the latest reading releases\, join our Dot &amp\; Dash Robotics coding sessions\, crafts stations\, LEGO table\, Early Years Play Area and more. There is truly something for everyone at Surrey Libraries!
LOCATION:Guildford Town Centre (Centre Court) 10355 152 Street\, Surrey\, V3R 7C1
UID:e.749.10863
SEQUENCE:3
DTSTAMP:20260420T094238Z
URL:https://business.swrbot.com/events/details/surrey-libraries-expo-01-25-2020-10863
END:VEVENT

END:VCALENDAR
