BEGIN:VCALENDAR
VERSION:2.0
PRODID:-//ChamberMaster//Event Calendar 2.0//EN
METHOD:PUBLISH
X-PUBLISHED-TTL:P3D
REFRESH-INTERVAL:P3D
CALSCALE:GREGORIAN
BEGIN:VEVENT
DTSTART:20170420T143000Z
DTEND:20170420T163000Z
X-MICROSOFT-CDO-ALLDAYEVENT:FALSE
SUMMARY:Surrey Networking Partners Presents: Business Networking Surrey
DESCRIPTION:One of our beliefs is people do business with people they know like and trust. Each week our meetings start and end with a half hour of open networking - perfect chance to get to know some of the others in the room. Come on out and share your successes and learn from others.
X-ALT-DESC;FMTTYPE=text/html:One of our beliefs is people do business with people they know like and trust. Each week our meetings start and end with a half hour of open networking - perfect chance to get to know some of the others in the room. Come on out and share your successes and learn from others.
LOCATION:Knight and Day Restaurant 9677 King George Blvd.
UID:e.749.5285
SEQUENCE:3
DTSTAMP:20260422T023744Z
URL:https://business.swrbot.com/events/details/surrey-networking-partners-presents-business-networking-surrey-04-20-2017-5285
END:VEVENT

END:VCALENDAR
