BEGIN:VCALENDAR
VERSION:2.0
PRODID:-//ChamberMaster//Event Calendar 2.0//EN
METHOD:PUBLISH
X-PUBLISHED-TTL:P3D
REFRESH-INTERVAL:P3D
CALSCALE:GREGORIAN
BEGIN:VEVENT
DTSTART:20170422T170000Z
DTEND:20170423T020000Z
X-MICROSOFT-CDO-ALLDAYEVENT:FALSE
SUMMARY:Surrey Party for the Planet
DESCRIPTION:Party for the Planet- B.C.'s largest Earth Day celebration is a FREE event for the whole family which features a day of live entertainment\, exciting eco-information and interactive activities\, and highlights of the City's great green initiatives. The event will unite the community to inspire awareness for the earth's natural environment in an enjoying and fun-filled atmosphere. Over 15\,000 people are expected to attend this event at the Surrey City Hall Plaza. There will be a main stage with live music performances and children acts to entertain the crowd throughout the day\, uniting the community at this FREE event.
X-ALT-DESC;FMTTYPE=text/html:Party for the Planet- B.C.&#39\;s largest Earth Day celebration is a FREE event for the whole family which features a day of live entertainment\, exciting eco-information and interactive activities\, and highlights of the City&#39\;s great green initiatives. The event will unite the community to inspire awareness for the earth&#39\;s natural environment in an enjoying and fun-filled atmosphere. Over 15\,000 people are expected to attend this event at the Surrey City Hall Plaza. There will be a main stage with live music performances and children acts to entertain the crowd throughout the day\, uniting the community at this FREE event.
LOCATION:City Hall Plaza\, 13450 104th Ave\, Surrey\, BC\, V3T 1V8
UID:e.749.5249
SEQUENCE:3
DTSTAMP:20260422T023902Z
URL:https://business.swrbot.com/events/details/surrey-party-for-the-planet-04-22-2017-5249
END:VEVENT

END:VCALENDAR
