BEGIN:VCALENDAR
VERSION:2.0
PRODID:-//ChamberMaster//Event Calendar 2.0//EN
METHOD:PUBLISH
X-PUBLISHED-TTL:P3D
REFRESH-INTERVAL:P3D
CALSCALE:GREGORIAN
BEGIN:VEVENT
DTSTART:20190629T220000Z
DTEND:20190630T030000Z
X-MICROSOFT-CDO-ALLDAYEVENT:FALSE
SUMMARY:Surrey Pride Festival - June 29
DESCRIPTION:The Surrey Board of Trade is a Gold Sponsor of the Surrey Pride Festival on Saturday\, June 29 from 3 - 8 p.m. at Central City Shopping Centre Plaza. It is going to be an amazing and fun event. Check out the amazing sponsors: https://www.surreypride.ca/sponsors-2019-2\n\n\n\n \n\n\n\nSurrey Pride Society brings together members of the LGBTQ2+ Community\, Friends\, Allies and Supporters in Celebrations of the Peerless Spirit and Culture by producing Timeless\, Inclusive Events \n\n\n\n \n\n\n\nCelebrating Diversity and inclusion in Surrey!\n\n\n\n \n\n\n\nDiversity means respect for and appreciation of differences in ethnicity\, gender\, age\, national origin\, disability\, sexual orientation\, education and religion. But it's more than this\, we all bring with us diverse perspectives\, life styles\, work experiences and cultures. As a source and driver of  innovation\, diversity is a "big idea" in society. We know the power of diversity is unleashed when we respect and value differences.\n\n\n\n \n\n\n\nInclusion is about focusing on the needs of every individual and ensuring the right conditions are in place for each person to achieve his or her full potential. Inclusion should be reflected in an organization's culture\, practices and relationships that are in place to support a diverse society and workplaces.\n\n\n\n \n\n\n\nIn simple terms\, diversity is the mix\; inclusion is getting the mix to work well together.
X-ALT-DESC;FMTTYPE=text/html:<div>\n<div>The Surrey Board of Trade is a Gold Sponsor of the Surrey Pride Festival on Saturday\, June 29 from 3 - 8 p.m. at Central City Shopping Centre Plaza. It is going to be an amazing and fun event. Check out the amazing sponsors: <a data-saferedirecturl="https://www.google.com/url?q=https://www.surreypride.ca/sponsors-2019-2&amp\;source=gmail&amp\;ust=1560621941252000&amp\;usg=AFQjCNEi1YkhdGmfA7vsEK1yhyB2bC5yjg" href="https://www.surreypride.ca/sponsors-2019-2" target="_blank">https://www.surreypride.ca/<wbr />sponsors-2019-2</a></div>\n</div>\n\n<div>\n<div>&nbsp\;</div>\n</div>\n\n<div>\n<div>Surrey Pride Society brings together members of the LGBTQ2+ Community\, Friends\, Allies and Supporters in Celebrations of the Peerless&nbsp\;Spirit and Culture by producing Timeless\, Inclusive Events&nbsp\;</div>\n</div>\n\n<div>\n<div>&nbsp\;</div>\n</div>\n\n<div>\n<div>Celebrating Diversity and inclusion in Surrey!</div>\n</div>\n\n<div>\n<div>&#8232\;</div>\n</div>\n\n<div>\n<div>Diversity means&nbsp\;respect for and appreciation of differences in ethnicity\,&nbsp\;gender\, age\, national origin\, disability\, sexual orientation\,&nbsp\;education and religion.&nbsp\;But it&rsquo\;s more than this\,&nbsp\;we all bring&nbsp\;with us diverse perspectives\, life styles\, work&nbsp\;experiences and cultures. As a source and driver of&nbsp\;&nbsp\;innovation\,&nbsp\;diversity is a &ldquo\;big idea&rdquo\;&nbsp\;in society.&nbsp\;We know&nbsp\;the power&nbsp\;of diversity is unleashed when we respect and value&nbsp\;differences.</div>\n</div>\n\n<div>\n<div>&nbsp\;</div>\n</div>\n\n<div>\n<div>Inclusion is about focusing on the needs of every individual and ensuring the right conditions are in place for each person to achieve his or her full potential. Inclusion should be reflected in an organization&rsquo\;s culture\, practices and relationships that are in place to support a diverse society and workplaces.</div>\n</div>\n\n<div>\n<div>&nbsp\;</div>\n</div>\n\n<div>\n<div>In simple terms\, diversity is the mix\; inclusion is getting the mix to work well together.</div>\n</div>\n
LOCATION:Central City Shopping Centre Plaza
UID:e.749.10483
SEQUENCE:3
DTSTAMP:20260420T174228Z
URL:https://business.swrbot.com/events/details/surrey-pride-festival-june-29-06-29-2019-10483
END:VEVENT

END:VCALENDAR
