BEGIN:VCALENDAR
VERSION:2.0
PRODID:-//ChamberMaster//Event Calendar 2.0//EN
METHOD:PUBLISH
X-PUBLISHED-TTL:P3D
REFRESH-INTERVAL:P3D
CALSCALE:GREGORIAN
BEGIN:VEVENT
DTSTART:20161210T020000Z
DTEND:20161210T080000Z
X-MICROSOFT-CDO-ALLDAYEVENT:FALSE
SUMMARY:Surrey's Biggest Small Office Party
DESCRIPTION:Do you have a small office? Not sure what to do this Holiday Season for your office celebration? Book a table with us and ring in the season by enjoying our sumptuous Dickens's Dinner Buffet and No Host Bar\, event features Dancing with Absolute Nonstop Entertainment\, Selfie Photo Backdrop and Grand Prize Draw!
X-ALT-DESC;FMTTYPE=text/html:Do you have a small office? Not sure what to do this Holiday Season for your office celebration? Book a table with us and ring in the season by enjoying our sumptuous Dickens&#39\;s Dinner Buffet and No Host Bar\, event features Dancing with Absolute Nonstop Entertainment\, Selfie Photo Backdrop and Grand Prize Draw!
LOCATION:Sheraton Vancouver Guildford Hotel 10529 104th Avenue Surrey\, BC
UID:e.749.5153
SEQUENCE:3
DTSTAMP:20260422T071032Z
URL:https://business.swrbot.com/events/details/surrey-s-biggest-small-office-party-12-09-2016-5153
END:VEVENT

END:VCALENDAR
