BEGIN:VCALENDAR
VERSION:2.0
PRODID:-//ChamberMaster//Event Calendar 2.0//EN
METHOD:PUBLISH
X-PUBLISHED-TTL:P3D
REFRESH-INTERVAL:P3D
CALSCALE:GREGORIAN
BEGIN:VEVENT
DTSTART:20181213T020000Z
DTEND:20181213T040000Z
X-MICROSOFT-CDO-ALLDAYEVENT:FALSE
SUMMARY:Surrey Success Networking powered by Rockstar Connect
DESCRIPTION:On behalf of Colin Sprake and Make Your Mark Training & Consulting\, host Jaivin Khatri of Surrey Success Networking powered by Rockstar Connect invites you to an evening of Rockstar Connect networking at Brown's Socialhouse - Surrey Centre on Wednesday\, December 12th\, 6 pm to 8 pm. It is a mix-and-mingle\, after-hours business networking event and all may attend. Unlike other evening networking events\, admission is free of charge\, there are no boring speakers and no one is trying to sell you anything. Bring your old friends\, make new friends and create your next meaningful business connection.
X-ALT-DESC;FMTTYPE=text/html:On behalf of Colin Sprake and Make Your Mark Training &amp\; Consulting\, host Jaivin Khatri of Surrey Success Networking powered by Rockstar Connect invites you to an evening of Rockstar Connect networking at Brown&#39\;s Socialhouse - Surrey Centre on Wednesday\, December 12th\, 6 pm to 8 pm. It is a mix-and-mingle\, after-hours business networking event and all may attend. Unlike other evening networking events\, admission is free of charge\, there are no boring speakers and no one is trying to sell you anything. Bring your old friends\, make new friends and create your next meaningful business connection.
LOCATION:Browns Socialhouse Surrey Centre 9666 King George Blvd A1\, Surrey\, BC V3T 2V4
UID:e.749.9951
SEQUENCE:3
DTSTAMP:20260421T014720Z
URL:https://business.swrbot.com/events/details/surrey-success-networking-powered-by-rockstar-connect-12-12-2018-9951
END:VEVENT

END:VCALENDAR
