BEGIN:VCALENDAR
VERSION:2.0
PRODID:-//ChamberMaster//Event Calendar 2.0//EN
METHOD:PUBLISH
X-PUBLISHED-TTL:P3D
REFRESH-INTERVAL:P3D
CALSCALE:GREGORIAN
BEGIN:VEVENT
DTSTART:20171125T200000Z
DTEND:20171126T030000Z
X-MICROSOFT-CDO-ALLDAYEVENT:FALSE
SUMMARY:Surrey Tree Lighting Festival
DESCRIPTION:Surrey Tree Lighting Festival is a free event for the whole family\, which features a day of live entertainment\, exciting games\, amusement rides and the lighting of the city's official Christmas tree. Over 15\,000 people are expected to attend throughout the day.
X-ALT-DESC;FMTTYPE=text/html:Surrey Tree Lighting Festival is a free event for the whole family\, which features a day of live entertainment\, exciting games\, amusement rides and the lighting of the city&rsquo\;s official Christmas tree. Over 15\,000 people are expected to attend throughout the day.
LOCATION:City Hall Plaza\, 13450 104th Ave\, Surrey\, BC\, V3T 1V8
UID:e.749.5252
SEQUENCE:3
DTSTAMP:20260421T180426Z
URL:https://business.swrbot.com/events/details/surrey-tree-lighting-festival-11-25-2017-5252
END:VEVENT

END:VCALENDAR
