BEGIN:VCALENDAR
VERSION:2.0
PRODID:-//ChamberMaster//Event Calendar 2.0//EN
METHOD:PUBLISH
X-PUBLISHED-TTL:P3D
REFRESH-INTERVAL:P3D
CALSCALE:GREGORIAN
BEGIN:VEVENT
DTSTART:20150729T200000Z
DTEND:20150730T010000Z
X-MICROSOFT-CDO-ALLDAYEVENT:FALSE
SUMMARY:Surrey Urban Farmers Market
DESCRIPTION:Join us at the Surrey Urban Farmers Market City Hall Plaza ? 13450 104 Ave Wednesday ? 1-6 PM Come by with the family for a snack at our food trucks\,or drop by for some groceries after work! Live Music: 1:30 - 4:30 PM
X-ALT-DESC;FMTTYPE=text/html:Join us at the Surrey Urban Farmers Market City Hall Plaza ? 13450 104 Ave Wednesday ? 1-6 PM Come by with the family for a snack at our food trucks\,or drop by for some groceries after work! Live Music: 1:30 - 4:30 PM
LOCATION:Surrey City Hall Plaza 13450 104 Ave
UID:e.749.3629
SEQUENCE:3
DTSTAMP:20260423T161948Z
URL:https://business.swrbot.com/events/details/surrey-urban-farmers-market-07-29-2015-3629
END:VEVENT

END:VCALENDAR
