BEGIN:VCALENDAR
VERSION:2.0
PRODID:-//ChamberMaster//Event Calendar 2.0//EN
METHOD:PUBLISH
X-PUBLISHED-TTL:P3D
REFRESH-INTERVAL:P3D
CALSCALE:GREGORIAN
BEGIN:VEVENT
DTSTART:20140226T200000Z
DTEND:20140227T000000Z
X-MICROSOFT-CDO-ALLDAYEVENT:FALSE
SUMMARY:Surrey WorkBC Hiring Fair
DESCRIPTION:The inaugural Surrey WorkBC Hiring Fair will be Wednesday February 26th at Kwantlen Polytechnic University Conference Centre from 12pm to 4pm featuring 30+ employers and hundreds of job seekers. Some of the top employers include The City of Surrey\, Fraser Health\, Starbucks\, WeCare\, BayShore\, Wesgar\, CLS Catering\, River Rock Casinos and more!
X-ALT-DESC;FMTTYPE=text/html:<p>\n	<span style="color:black">The inaugural Surrey WorkBC Hiring Fair will be Wednesday February 26th at Kwantlen Polytechnic University Conference Centre from 12pm to 4pm featuring 30+ employers and hundreds of job seekers. </span>Some of the top employers include The City of Surrey\, Fraser Health\, Starbucks\, WeCare\, BayShore\, Wesgar\, CLS Catering\, River Rock Casinos and more!</p>\n<p>\n	&nbsp\;</p>\n
LOCATION:Kwantlen Polytechnic University Conference Centre - 12666 72nd Avenue
UID:e.749.2584
SEQUENCE:3
DTSTAMP:20260426T010850Z
URL:https://business.swrbot.com/events/details/surrey-workbc-hiring-fair-02-26-2014-2584
END:VEVENT

END:VCALENDAR
