BEGIN:VCALENDAR
VERSION:2.0
PRODID:-//ChamberMaster//Event Calendar 2.0//EN
METHOD:PUBLISH
X-PUBLISHED-TTL:P3D
REFRESH-INTERVAL:P3D
CALSCALE:GREGORIAN
BEGIN:VEVENT
DTSTART:20180512T190000Z
DTEND:20180513T010000Z
X-MICROSOFT-CDO-ALLDAYEVENT:FALSE
SUMMARY:Surrey Youth Showcase: Dance Battle and Hip Hop Event
DESCRIPTION:Support the local dance scene and compete against some of the most talented breakers and Hip Hop dancers in Surrey on Saturday\, May 12. Breakers compete in crews of three in the junior (age 16 and under) or senior (ages 17-21) divisions\, while teams of 3 to 6 Hip Hop dancers between the ages of 13 and 18 years take part in a choreography contest. This is a real Hip Hop event\, with all 5 elements: breaking\, DJing\, MCing\, graffiti art and beatboxing. More than $2000 worth of prizes up for grabs! Register at www.surrey.ca/sys
X-ALT-DESC;FMTTYPE=text/html:Support the local dance scene and compete against some of the most talented breakers and Hip Hop dancers in Surrey on Saturday\, May 12. Breakers compete in crews of three in the junior (age 16 and under) or senior (ages 17-21) divisions\, while teams of 3 to 6 Hip Hop dancers between the ages of 13 and 18 years take part in a choreography contest. This is a real Hip Hop event\, with all 5 elements: breaking\, DJing\, MCing\, graffiti art and beatboxing. More than $2000 worth of prizes up for grabs! Register at www.surrey.ca/sys
LOCATION:Fleetwood Community Centre 15996 84 Ave Surrey\, B.C
UID:e.749.8235
SEQUENCE:3
DTSTAMP:20260421T103123Z
URL:https://business.swrbot.com/events/details/surrey-youth-showcase-dance-battle-and-hip-hop-event-05-12-2018-8235
END:VEVENT

END:VCALENDAR
