BEGIN:VCALENDAR
VERSION:2.0
PRODID:-//ChamberMaster//Event Calendar 2.0//EN
METHOD:PUBLISH
X-PUBLISHED-TTL:P3D
REFRESH-INTERVAL:P3D
CALSCALE:GREGORIAN
BEGIN:VEVENT
DTSTART:20190418T170000Z
DTEND:20190418T183000Z
X-MICROSOFT-CDO-ALLDAYEVENT:FALSE
SUMMARY:Tax strategies for retirement income
DESCRIPTION:Learn: - How RRSPs can result in tax efficient income - How to avoid OAS claw-back - The types of investments that are tax effective - How to organize your RRSP\, TFSA\, and taxable (non-registered) accounts.
X-ALT-DESC;FMTTYPE=text/html:Learn: - How RRSPs can result in tax efficient income - How to avoid OAS claw-back - The types of investments that are tax effective - How to organize your RRSP\, TFSA\, and taxable (non-registered) accounts.
LOCATION:Scotia Wealth Management Boardroom 1676 Martin Drive\, Suite 100\, White Rock
UID:e.749.10263
SEQUENCE:3
DTSTAMP:20260420T214559Z
URL:https://business.swrbot.com/events/details/tax-strategies-for-retirement-income-04-18-2019-10263
END:VEVENT

END:VCALENDAR
