BEGIN:VCALENDAR
VERSION:2.0
PRODID:-//ChamberMaster//Event Calendar 2.0//EN
METHOD:PUBLISH
X-PUBLISHED-TTL:P3D
REFRESH-INTERVAL:P3D
CALSCALE:GREGORIAN
BEGIN:VEVENT
DTSTART:20190919T170000Z
DTEND:20190919T183000Z
X-MICROSOFT-CDO-ALLDAYEVENT:FALSE
SUMMARY:Tax Strategies to Enhance Retirement Income
DESCRIPTION:Learning Objectives:\n\n1) Drawbacks of RRSPs that most people don't know about\n\n2) Ways to avoid OAS claw-back\n\n3) The types of investments that are most tax effective\n\n4) How to reduce the fees you pay and make them tax efficient\n\n5) How to better coordinate your RRSP\, TFSA\, and taxable (non-registered) accounts. Speaker: Dave Lee\, Senior Wealth Advisor\, Scotia Wealth Management
X-ALT-DESC;FMTTYPE=text/html:<strong>Learning Objectives:</strong><br />\n1) Drawbacks of RRSPs that most people don&rsquo\;t know about<br />\n2) Ways to avoid OAS claw-back<br />\n3) The types of investments that are most tax effective<br />\n4) How to reduce the fees you pay and make them tax efficient<br />\n5) How to better coordinate your RRSP\, TFSA\, and taxable (non-registered) accounts. Speaker: Dave Lee\, Senior Wealth Advisor\, Scotia Wealth Management
LOCATION:Scotia Wealth Management Boardroom (1676 Martin Drive\, Suite 100\, White Rock\, British Columbia\, V4A 6E7\, Canada)
UID:e.749.10612
SEQUENCE:3
DTSTAMP:20260420T151624Z
URL:https://business.swrbot.com/events/details/tax-strategies-to-enhance-retirement-income-09-19-2019-10612
END:VEVENT

END:VCALENDAR
