BEGIN:VCALENDAR
VERSION:2.0
PRODID:-//ChamberMaster//Event Calendar 2.0//EN
METHOD:PUBLISH
X-PUBLISHED-TTL:P3D
REFRESH-INTERVAL:P3D
CALSCALE:GREGORIAN
BEGIN:VEVENT
DTSTART:20150325T200000Z
DTEND:20150326T010000Z
X-MICROSOFT-CDO-ALLDAYEVENT:FALSE
SUMMARY:Tech Edge: How Smart Business People Handle Technology
DESCRIPTION:Got decades in on the Help (hold) Line (experience you DIDN'T want) ???\n\nInvested a fortune in new technology (and more maintaining it afterward) ???\n\nFlinch when you hear "the next new thing" (synonym:  "co$tly $witch") ???\n\nJoin us for 5 hours and learn how to win with technology every time.\n\n \n\n$150/seat\; participants entered in draw for 1 free hour of consulting time with Leah about your own business technology!\n\nInformation & Registration at:\n\n    bytesmart.ca/SuptDocs/20150120-24_IntroWkshopFlyer.pdf\n\n    bytesmart.ca/WkshopSignupIntroSMETechMgmnt.htm
X-ALT-DESC;FMTTYPE=text/html:<p>Got decades in on the Help (hold) Line (experience you DIDN&#39\;T want) ???<br />\nInvested a fortune in new technology (and more maintaining it afterward) ???<br />\nFlinch when you hear &quot\;the next new thing&quot\; (synonym:&nbsp\; &quot\;co$tly $witch&quot\;) ???</p>\n\n<p>Join us for 5 hours and learn how to win with technology every time.<br />\n&nbsp\;<br />\n$150/seat\; participants entered in draw for 1 free hour of consulting time with Leah about your own business technology!</p>\n\n<p>Information &amp\; Registration at:<br />\n&nbsp\;&nbsp\;&nbsp\; bytesmart.ca/SuptDocs/20150120-24_IntroWkshopFlyer.pdf<br />\n&nbsp\;&nbsp\;&nbsp\; bytesmart.ca/WkshopSignupIntroSMETechMgmnt.htm</p>\n
LOCATION:Located in our lovely training space in Cloverdale at 6000 Greenside Drive\, Surrey\, BC
UID:e.749.2890
SEQUENCE:3
DTSTAMP:20260423T100858Z
URL:https://business.swrbot.com/events/details/tech-edge-how-smart-business-people-handle-technology-03-25-2015-2890
END:VEVENT

END:VCALENDAR
