BEGIN:VCALENDAR
VERSION:2.0
PRODID:-//ChamberMaster//Event Calendar 2.0//EN
METHOD:PUBLISH
X-PUBLISHED-TTL:P3D
REFRESH-INTERVAL:P3D
CALSCALE:GREGORIAN
BEGIN:VEVENT
DTSTART:20171103T180000Z
DTEND:20171113T030000Z
X-MICROSOFT-CDO-ALLDAYEVENT:FALSE
SUMMARY:TELUS brings the home of the future to Surrey
DESCRIPTION:Join us at the TELUS Future Home to experience the potential of a fibre optic network and preview the future of home technology. Residents can visit the Future Home from Friday\, November 3 to Sunday\, November 12\, 2017. The 585-square-foot Future Home offers an immersive experience to demonstrate how technology will soon make our lives safer\, healthier\, and more efficient than ever before. New experiences include an EcoHub that looks at the energy saving and eco-friendly items in a home at the click of a button and an intelligent kitchen with a smart stove\, counter\, skillet\, and interactive recipes. Visitors can also see how a UV light can clean a stove hands-free. All Future Home visitors are invited to enter to win a prize pack courtesy of Samsung\, which includes a 55" Samsung UHD LED Smart TV (retail value $2\,300)\, a Samsung Galaxy Tab S2 LTE 9.7 (retail value $550)\, and a Samsung Galaxy S7 (retail value $899). TELUS PureFibre. Internet reimagined.
X-ALT-DESC;FMTTYPE=text/html:Join us at the TELUS Future Home to experience the potential of a fibre optic network and preview the future of home technology. Residents can visit the Future Home from Friday\, November 3 to Sunday\, November 12\, 2017. The 585-square-foot Future Home offers an immersive experience to demonstrate how technology will soon make our lives safer\, healthier\, and more efficient than ever before. New experiences include an EcoHub that looks at the energy saving and eco-friendly items in a home at the click of a button and an intelligent kitchen with a smart stove\, counter\, skillet\, and interactive recipes. Visitors can also see how a UV light can clean a stove hands-free. All Future Home visitors are invited to enter to win a prize pack courtesy of Samsung\, which includes a 55&rdquo\; Samsung UHD LED Smart TV (retail value $2\,300)\, a Samsung Galaxy Tab S2 LTE 9.7 (retail value $550)\, and a Samsung Galaxy S7 (retail value $899). TELUS PureFibre. Internet reimagined.
LOCATION:Safeway Peninsula Village 700 - 15355 24 Ave\, Surrey\, BC V4A 2H9
UID:e.749.5537
SEQUENCE:3
DTSTAMP:20260421T181937Z
URL:https://business.swrbot.com/events/details/telus-brings-the-home-of-the-future-to-surrey-11-03-2017-5537
END:VEVENT

END:VCALENDAR
