BEGIN:VCALENDAR
VERSION:2.0
PRODID:-//ChamberMaster//Event Calendar 2.0//EN
METHOD:PUBLISH
X-PUBLISHED-TTL:P3D
REFRESH-INTERVAL:P3D
CALSCALE:GREGORIAN
BEGIN:VEVENT
DTSTART:20190617T200000Z
DTEND:20190618T000000Z
X-MICROSOFT-CDO-ALLDAYEVENT:FALSE
SUMMARY:TELUS Pitch elevator event in Surrey: What could your business do with $100\,000?
DESCRIPTION:TELUS Pitch elevator event in Surrey: What could your business do with $100\,000?\n\n\n\nAbout this Event\n\n\n\nWe're thrilled to announce the TELUS Pitch is headed to Surrey! As Canada's largest small business competition offering more than $150\,000 in prizes\, the contest is a platform to shine a spotlight on entrepreneurs\, celebrate their success and to do our part to give back to this community in the form of funding\, mentorship and exposure on a national scale.\n\n\n\nEvent Description\n\n\n\nJoin us on Monday June 17\, 2019 at Surrey City Hall for an afternoon of networking\, hear pitch tips from one of the TELUS pitch judges and get a chance to win $100\,000 by stepping into the TELUS elevator and delivering your best 60 second pitch.\n\n\n\nHope to see you there!\n\n\n\nAbout TELUS Pitch\n\n\n\nThe TELUS Pitch is a platform to shine a spotlight on entrepreneurs\, to celebrate their success and to do our part to give back to this community in the form of funding\, mentorship and exposure on a national scale. With more than $150\,000 in prizes on the line\, TELUS Pitch is inviting Canadian business owners to share their story for a chance at the $100\,000 grand prize and access to a community of experienced entrepreneurs.\n\n\n\nVisit: www.telus.com/pitch to learn more.\n\nRegister: https://www.eventbrite.ca/e/telus-pitch-surrey-tickets-62645847416?aff=affiliate1
X-ALT-DESC;FMTTYPE=text/html:<strong>TELUS Pitch elevator event in Surrey: What could your business do with $100\,000?</strong><br />\n<br />\n<strong>About this Event</strong><br />\n<br />\nWe&rsquo\;re thrilled to announce the TELUS Pitch is headed to Surrey! As Canada&rsquo\;s largest small business competition offering more than $150\,000 in prizes\, the contest is a platform to shine a spotlight on entrepreneurs\, celebrate their success and to do our part to give back to this community in the form of funding\, mentorship and exposure on a national scale.<br />\n<br />\n<strong>Event Description</strong><br />\n<br />\nJoin us on Monday June 17\, 2019 at Surrey City Hall for an afternoon of networking\, hear pitch tips from one of the TELUS pitch judges and get a chance to win $100\,000 by stepping into the TELUS elevator and delivering your best 60 second pitch.<br />\n<br />\nHope to see you there!<br />\n<br />\n<strong>About TELUS Pitch</strong><br />\n<br />\nThe TELUS Pitch is a platform to shine a spotlight on entrepreneurs\, to celebrate their success and to do our part to give back to this community in the form of funding\, mentorship and exposure on a national scale. With more than $150\,000 in prizes on the line\, TELUS Pitch is inviting Canadian business owners to share their story for a chance at the $100\,000 grand prize and access to a community of experienced entrepreneurs.<br />\n<br />\nVisit: www.telus.com/pitch to learn more.<br />\nRegister:&nbsp\;https://www.eventbrite.ca/e/telus-pitch-surrey-tickets-62645847416?aff=affiliate1
LOCATION:Surrey City Hall 13450 104 Avenue Surrey\, BC V3T 1V8
UID:e.749.10482
SEQUENCE:3
DTSTAMP:20260420T174347Z
URL:https://business.swrbot.com/events/details/telus-pitch-elevator-event-in-surrey-what-could-your-business-do-with-100-000-06-17-2019-10482
END:VEVENT

END:VCALENDAR
